{"text_format":"1","workbook":"xlsx","n_sheets":6,"sheets":["ENG","Vær del.","Fakturering","Faktura","Dato slet ikke","opslag slet ikke"],"not_rendered":{"charts":0,"images":2,"macros":1,"external_links":0,"defined_names":8,"comments":4,"pivot_tables":0},"unopened":[],"bounds":{"document_bytes":16777216,"sheet_cells":100000,"rows_first":2000,"rows_last":500,"rows_between":2000,"halvings":0,"cell_chars":16384,"cell_head_chars":4096},"cells_cut":0,"cells_raw":0,"read":"whole","date_system":"1900"}

{"sheet":"ENG","index":0,"n_rows":93,"n_cols":10,"rows_kept":93,"cut":false,"hidden":false,"merged":[[78,1,78,3],[79,1,79,3],[80,1,80,3],[81,1,81,3],[82,1,82,3],[73,1,73,3],[74,1,74,3],[75,1,75,3],[76,1,76,3],[77,1,77,3],[85,1,85,9],[89,1,89,9],[93,1,93,9],[36,1,43,9],[62,6,62,7],[63,4,63,5],[63,6,63,7],[58,4,58,5],[58,6,58,7],[59,4,59,5],[59,6,59,7],[60,4,60,5],[60,6,60,7],[48,0,48,9],[49,0,49,9],[50,0,50,9],[0,8,0,9],[66,1,66,3],[66,4,66,5],[66,6,66,7],[67,1,67,3],[67,4,67,5],[67,6,67,7],[64,1,64,3],[64,4,64,5],[64,6,64,7],[65,1,65,3],[65,4,65,5],[65,6,65,7],[61,4,61,5],[61,6,61,7],[62,4,62,5],[51,0,51,9],[52,0,52,9],[57,4,57,5],[57,6,57,7],[30,1,30,9],[31,1,31,9],[32,1,32,9],[33,1,33,9],[46,0,46,9],[25,1,25,9],[1,0,1,9],[2,0,2,9],[6,0,6,9],[8,1,8,3],[17,1,17,9],[18,1,18,9],[20,1,20,9],[21,1,21,9],[22,1,22,9],[24,1,24,9],[11,1,11,9],[58,1,58,3],[59,1,59,3],[60,1,60,3],[63,1,63,3],[62,1,62,3],[61,1,61,3]]}
[null,null,null,null,null,null,null,null,"P.O. Box 570, DK-3900 Nuuk, Greenland\nPhone:   +299 36 12 00 \nFax:  +299 36 12 12"]
["Application for logistics support\nGreenland Institute of Natural Resources\n"]
[]
["Reserved for GINR (Booking number)"]
[{"$f":"'Vær del.'!A5","v":0}]
[]
["Basic information"]
["*1) Date of application (DD-MM-YYYY)",null,null,null,null,"*2) GINR / GCRC project number – if available"]
[]
[]
["*3) Project title "]
[]
[]
["*4) Affiliated contact person GINR (Greenland Institute of Natural Resources) :"]
[]
[]
["*5) Invoice address",null,null,null,"Payment"]
["Department"]
["Responsible"]
["Street name"]
["Zip code"]
["City"]
["Phone nr."]
["E-mail"]
["EAN Nr./GLN"]
["VAT"]
[]
["*6) Invoice payment",null,null,null,"Kreditkort",null,null,"Send an invoice"]
[]
["*7) Contact person while/if PI is in the field"]
["Name:"]
["Adresse:"]
["Phone:"]
["E-mail:"]
[]
["* 8) Brief description of project"]
[]
[]
[]
[]
[]
[]
[]
[]
[]
[]
["Standard terms & conditions"]
[]
["· GINR is not able to undertake housing of customer equipment within or between field  seasons."]
["· All special equipment and consumables - including weapons, clothing, equipment for communication, navigation and camping - necessary to carry out a project at GINR must be provided by the individual project itself."]
["· GINR will normally not charge services before they are completed. However, in all cases, GINR reserves the right to charge the full amount of any given service immediately after a booking has been agreed. "]
["· All types of bookings may be cancelled by the costumer free of charge until 7 calendar days before delivery of the booked service. If the costumer cancels his booking later than 7 calendar days before completion – or does not show up at all at the time agreed - GINR reserves the right to charge the full amount of the service booked."]
["Specification of need for logistics support"]
[]
[]
[]
["*9) How many persons",null,1,null,null,null,null,null,"From date(s)","To date(s)"]
[null,"Name(s)",null,null,"e-mail",null,"phone",null,"(DD-MM-YY)","(DD-MM-YY)"]
["Person 1 "]
["Person 2"]
["Person 3"]
["Person 4"]
["Person 5"]
["Person 6"]
["Person 7"]
["Person 8"]
["Person 9"]
["Person 10"]
[]
[]
["* 10) Meals at GINR (consisting of a daily lunch buffet)"]
["How many persons",null,1,null,"From date(s)","To date(s)"]
[null,"Name(s)",null,null,"(DD-MM-YY)","(DD-MM-YY)"]
["Person 1 "]
["Person 2"]
["Person 3"]
["Person 4"]
["Person 5"]
["Person 6"]
["Person 7"]
["Person 8"]
["Person 9"]
["Person 10"]
["* 11) Does your project intend to ship any cargo to GINR?"]
["In this case please specify: Type, size (in m3), weight (in kg), number of colli and shipping type (cargo/air)"]
[]
[]
["* 12) Other needs for logistics support at Greenland Institute of Natural Resources (GINR) Please specify "]
[]
[]
[]
[]
["* 13)Reserved for GINR (List of changes) Date(s), change"]

{"sheet":"Vær del.","index":1,"n_rows":60,"n_cols":7,"rows_kept":60,"cut":false,"hidden":true,"merged":[[34,3,34,6],[35,3,35,6],[34,0,34,2],[35,0,35,2],[54,0,54,6],[53,0,53,6],[49,0,49,6],[50,2,50,6],[51,2,51,6],[52,2,52,6],[4,2,4,4],[33,0,33,6],[37,0,37,2],[47,0,47,2],[46,0,46,2],[45,0,45,2],[44,0,44,2],[43,0,43,2],[42,0,42,2],[41,0,41,2],[40,0,40,2],[39,0,39,2],[38,0,38,2],[23,1,23,6],[22,0,22,6],[31,1,31,6],[30,1,30,6],[29,1,29,6],[28,1,28,6],[27,1,27,6],[26,1,26,6],[25,1,25,6],[24,1,24,6],[20,1,20,3],[19,1,19,3],[18,1,18,3],[17,1,17,3],[16,1,16,3],[11,4,11,5],[10,4,10,5],[12,4,12,5],[13,4,13,5],[14,4,14,5],[9,0,9,6],[5,0,5,6],[6,0,6,6],[7,1,7,5],[20,4,20,5],[10,1,10,3],[11,1,11,3],[12,1,12,3],[15,1,15,3],[14,1,14,3],[13,1,13,3],[15,4,15,5],[16,4,16,5],[17,4,17,5],[18,4,18,5],[19,4,19,5]]}
[]
[]
[]
[]
[null,"Bookingnr.: "]
["Ansvarlig GN-vært"]
["Projektleder / Principal investigator"]
[null,{"$f":"ENG!B15","v":0}]
[]
["Bruger/gæst"]
["Nr.","Navn",null,null,"E-mail",null,"Tlf"]
[1,{"$f":"ENG!B59","v":0},null,null,{"$f":"ENG!E59","v":0},null,{"$f":"ENG!G59","v":0}]
[2,{"$f":"ENG!B60","v":0},null,null,{"$f":"ENG!E60","v":0},null,{"$f":"ENG!G60","v":0}]
[3,{"$f":"ENG!B61","v":0},null,null,{"$f":"ENG!E61","v":0},null,{"$f":"ENG!G61","v":0}]
[4,{"$f":"ENG!B62","v":0},null,null,{"$f":"ENG!E62","v":0},null,{"$f":"ENG!G62","v":0}]
[5,{"$f":"ENG!B63","v":0},null,null,{"$f":"ENG!E63","v":0},null,{"$f":"ENG!G63","v":0}]
[6,{"$f":"ENG!B64","v":0},null,null,{"$f":"ENG!E64","v":0},null,{"$f":"ENG!G64","v":0}]
[7,{"$f":"ENG!B65","v":0},null,null,{"$f":"ENG!E65","v":0},null,{"$f":"ENG!G65","v":0}]
[8,{"$f":"ENG!B66","v":0},null,null,{"$f":"ENG!E66","v":0},null,{"$f":"ENG!G66","v":0}]
[9,{"$f":"ENG!B67","v":0},null,null,{"$f":"ENG!E67","v":0},null,{"$f":"ENG!G67","v":0}]
[10,{"$f":"ENG!B68","v":0},null,null,{"$f":"ENG!E68","v":0},null,{"$f":"ENG!G68","v":0}]
[]
["Faktureringsadresse"]
[{"$f":"ENG!A18","v":"Department"},{"$f":"ENG!B18","v":0}]
[{"$f":"ENG!A19","v":"Responsible"},{"$f":"ENG!B19","v":0}]
[{"$f":"ENG!A20","v":"Street name"},{"$f":"ENG!B20","v":0}]
[{"$f":"ENG!A21","v":"Zip code"},{"$f":"ENG!B21","v":0}]
[{"$f":"ENG!A22","v":"City"},{"$f":"ENG!B22","v":0}]
[{"$f":"ENG!A23","v":"Phone nr."},{"$f":"ENG!B23","v":0}]
[{"$f":"ENG!A24","v":"E-mail"},{"$f":"ENG!B24","v":0}]
[{"$f":"ENG!A25","v":"EAN Nr./GLN"},{"$f":"ENG!B25","v":0}]
[{"$f":"ENG!A26","v":"VAT"},{"$f":"ENG!B26","v":0}]
[]
["Projektnummer"]
["Projektnummer",null,null,"Intern / Ekstern"]
[{"$f":"ENG!F9","v":0},null,null,{"$f":"ENG!H9","v":0}]
[null,null,""]
["Navn",null,null,"Bolig","Nr.","Ankomstdag","Afrejsedag"]
[{"$f":"ENG!B59","v":0},null,null,null,null,{"$f":"ENG!I59","v":"00:00:00"},{"$f":"ENG!J59","v":"00:00:00"}]
[{"$f":"ENG!B60","v":0},null,null,null,null,{"$f":"ENG!I60","v":"00:00:00"},{"$f":"ENG!J60","v":"00:00:00"}]
[{"$f":"ENG!B61","v":0},null,null,null,null,{"$f":"ENG!I61","v":"00:00:00"},{"$f":"ENG!J61","v":"00:00:00"}]
[{"$f":"ENG!B62","v":0},null,null,null,null,{"$f":"ENG!I62","v":"00:00:00"},{"$f":"ENG!J62","v":"00:00:00"}]
[{"$f":"ENG!B63","v":0},null,null,null,null,{"$f":"ENG!I63","v":"00:00:00"},{"$f":"ENG!J63","v":"00:00:00"}]
[{"$f":"ENG!B64","v":0},null,null,null,null,{"$f":"ENG!I64","v":"00:00:00"},{"$f":"ENG!J64","v":"00:00:00"}]
[{"$f":"ENG!B65","v":0},null,null,null,null,{"$f":"ENG!I65","v":"00:00:00"},{"$f":"ENG!J65","v":"00:00:00"}]
[{"$f":"ENG!B66","v":0},null,null,null,null,{"$f":"ENG!I66","v":"00:00:00"},{"$f":"ENG!J66","v":"00:00:00"}]
[{"$f":"ENG!B67","v":0},null,null,null,null,{"$f":"ENG!I67","v":"00:00:00"},{"$f":"ENG!J67","v":"00:00:00"}]
[{"$f":"ENG!B68","v":0},null,null,null,null,{"$f":"ENG!I68","v":"00:00:00"},{"$f":"ENG!J68","v":"00:00:00"}]
[]
["Kvittering for nøgler"]
["Låner","Dato:","Underskrift:"]
["Udleveret af","Dato:","Underskrift:"]
["Modtaget af","Dato:","Underskrift:"]
[]
["Andre booking:"]
["Lab:","Båd:","Kontor:",null,null,"Hytte"]
["Laboratorie videresendes til Mie Winding / Thomas Juul Pedersen"]
["Bådbooking: Booking"]
["Kontor videresendes til ?"]
["Hyttebooking videsendes til Maia eller Katrine Raundrup"]

{"sheet":"Fakturering","index":2,"n_rows":32,"n_cols":26,"rows_kept":32,"cut":false,"hidden":true,"merged":[[29,28,29,30],[29,32,29,34],[30,1,30,5],[30,7,30,9],[31,1,34,5],[31,7,31,13],[32,7,32,13]]}
["Student",null,null,null,null,null,null,null,null,null,null,"Projekt nr:",{"$f":"ENG!H9","v":0},{"$f":"ENG!F9","v":0}]
["vakantbolig:",null,{"$f":"B2","v":0},null,null,null,null,null,null,null," "]
["Logi",null,"Bolig","Nr.","Pris","Ankomst dato",null,"Afrejse dato","Antal dag",null,"Rengøring","Oprind.beløb","Max","pris i alt (inkl.reng)"]
[{"$f":"'Vær del.'!A39:B39","v":0},null,{"$f":"'Vær del.'!D39","v":0},{"$f":"'Vær del.'!E39","v":0},{"$f":"IF(C4=\"FV\",400,0)+IF(C4=\"FL2\",500,0)+IF(C4=\"FL3\",650,0)+IF(C4=\"FL4\",800,0)+IF(C4=\"BIO\",400,0)+IF(C4=\"NBFL\",500,0)","v":0},{"$f":"'Vær del.'!F39","v":"00:00:00"},null,{"$f":"'Vær del.'!G39","v":"00:00:00"},{"$f":"H4-F4","v":0},null,{"$f":"IF(C4=\"NBFL\",500,0+IF(C4=\"FV\",300,0+IF(C4=\"FL2\",1500,0+IF(C4=\"FL3\",1500,0+IF(C4=\"FL4\",1500,0+IF(C4=\"BIO\",400,0))))))","v":0},{"$f":"E4*I4","v":0},{"$f":"VLOOKUP(Fakturering!I4,'opslag slet ikke'!$A$2:$S$361,IF(Fakturering!C4=\"FV\",\"4\",IF(Fakturering!C4=\"FL2\",\"7\",IF(Fakturering!C4=\"FL3\",\"10\",IF(Fakturering!C4=\"FL4\",\"13\",IF(Fakturering!C4=\"NBFL\",\"16\",IF(Fakturering!C4=\"BIO\",\"19\",\"0\")))))),FALSE)","v":{"$error":"#N/A"}},{"$f":"M4+K4","v":{"$error":"#N/A"}},"Kredit:",2110,"/",84,"-","0",{"$f":"IF(C4=\"FV\",8,0+IF(C4=\"FL2\",8,0+IF(C4=\"FL3\",8,0+IF(C4=\"FL4\",8,0+IF(C4=\"NBFL\",8,0+IF(C4=\"BIO\",6,0+HVIS))))))","v":{"$error":"#NAME?"}},"=>",{"$f":"A4","v":0},null,{"$f":"I4","v":0},"nætter"]
[{"$f":"'Vær del.'!A40:B40","v":0},null,{"$f":"'Vær del.'!D40","v":0},{"$f":"'Vær del.'!E40","v":0},{"$f":"IF(C5=\"FV\",400,0)+IF(C5=\"FL2\",500,0)+IF(C5=\"FL3\",650,0)+IF(C5=\"FL4\",800,0)+IF(C5=\"BIO\",400,0)+IF(C5=\"NBFL\",500,0)","v":0},{"$f":"'Vær del.'!F40","v":"00:00:00"},null,{"$f":"'Vær del.'!G40","v":"00:00:00"},0,null,0,0,{"$f":"VLOOKUP(Fakturering!I5,'opslag slet ikke'!$A$2:$S$361,IF(Fakturering!C5=\"FV\",\"4\",IF(Fakturering!C5=\"FL2\",\"7\",IF(Fakturering!C5=\"FL3\",\"10\",IF(Fakturering!C5=\"FL4\",\"13\",IF(Fakturering!C5=\"NBFL\",\"16\",IF(Fakturering!C5=\"BIO\",\"19\",\"0\")))))),FALSE)","v":{"$error":"#N/A"}},{"$error":"#N/A"},"Kredit:",2110,"/",84,"-","0",{"$f":"IF(C5=\"FV\",8,0+IF(C5=\"FL2\",8,0+IF(C5=\"FL3\",8,0+IF(C5=\"FL4\",8,0+IF(C5=\"NBFL\",8,0+IF(C5=\"BIO\",6,0))))))","v":0},"=>",0,null,0,"nætter"]
[{"$f":"'Vær del.'!A41:B41","v":0},null,{"$f":"'Vær del.'!D41","v":0},{"$f":"'Vær del.'!E41","v":0},0,{"$f":"'Vær del.'!F41","v":"00:00:00"},null,{"$f":"'Vær del.'!G41","v":"00:00:00"},0,null,0,0,{"$f":"VLOOKUP(Fakturering!I6,'opslag slet ikke'!$A$2:$S$361,IF(Fakturering!C6=\"FV\",\"4\",IF(Fakturering!C6=\"FL2\",\"7\",IF(Fakturering!C6=\"FL3\",\"10\",IF(Fakturering!C6=\"FL4\",\"13\",IF(Fakturering!C6=\"NBFL\",\"16\",IF(Fakturering!C6=\"BIO\",\"19\",\"0\")))))),FALSE)","v":{"$error":"#N/A"}},{"$error":"#N/A"},"Kredit:",2110,"/",84,"-","0",0,"=>",0,null,0,"nætter"]
[{"$f":"'Vær del.'!A42:B42","v":0},null,{"$f":"'Vær del.'!D42","v":0},{"$f":"'Vær del.'!E42","v":0},0,{"$f":"'Vær del.'!F42","v":"00:00:00"},null,{"$f":"'Vær del.'!G42","v":"00:00:00"},0,null,0,0,{"$f":"VLOOKUP(Fakturering!I7,'opslag slet ikke'!$A$2:$S$361,IF(Fakturering!C7=\"FV\",\"4\",IF(Fakturering!C7=\"FL2\",\"7\",IF(Fakturering!C7=\"FL3\",\"10\",IF(Fakturering!C7=\"FL4\",\"13\",IF(Fakturering!C7=\"NBFL\",\"16\",IF(Fakturering!C7=\"BIO\",\"19\",\"0\")))))),FALSE)","v":{"$error":"#N/A"}},{"$error":"#N/A"},"Kredit:",2110,"/",84,"-","0",0,"=>",0,null,0,"nætter"]
[{"$f":"'Vær del.'!A43:B43","v":0},null,{"$f":"'Vær del.'!D43","v":0},{"$f":"'Vær del.'!E43","v":0},0,{"$f":"'Vær del.'!F43","v":"00:00:00"},null,{"$f":"'Vær del.'!G43","v":"00:00:00"},0,null,0,0,{"$f":"VLOOKUP(Fakturering!I8,'opslag slet ikke'!$A$2:$S$361,IF(Fakturering!C8=\"FV\",\"4\",IF(Fakturering!C8=\"FL2\",\"7\",IF(Fakturering!C8=\"FL3\",\"10\",IF(Fakturering!C8=\"FL4\",\"13\",IF(Fakturering!C8=\"NBFL\",\"16\",IF(Fakturering!C8=\"BIO\",\"19\",\"0\")))))),FALSE)","v":{"$error":"#N/A"}},{"$error":"#N/A"},"Kredit:",2110,"/",84,"-","0",0,"=>",0,null,0,"nætter"]
[{"$f":"'Vær del.'!A44:B44","v":0},null,{"$f":"'Vær del.'!D44","v":0},{"$f":"'Vær del.'!E44","v":0},0,{"$f":"'Vær del.'!F44","v":"00:00:00"},null,{"$f":"'Vær del.'!G44","v":"00:00:00"},0,null,0,0,{"$f":"VLOOKUP(Fakturering!I9,'opslag slet ikke'!$A$2:$S$361,IF(Fakturering!C9=\"FV\",\"4\",IF(Fakturering!C9=\"FL2\",\"7\",IF(Fakturering!C9=\"FL3\",\"10\",IF(Fakturering!C9=\"FL4\",\"13\",IF(Fakturering!C9=\"NBFL\",\"16\",IF(Fakturering!C9=\"BIO\",\"19\",\"0\")))))),FALSE)","v":{"$error":"#N/A"}},{"$error":"#N/A"},"Kredit:",2110,"/",84,"-","0",0,"=>",0,null,0,"nætter"]
[{"$f":"'Vær del.'!A45:B45","v":0},null,{"$f":"'Vær del.'!D45","v":0},{"$f":"'Vær del.'!E45","v":0},0,{"$f":"'Vær del.'!F45","v":"00:00:00"},null,{"$f":"'Vær del.'!G45","v":"00:00:00"},0,null,0,0,{"$f":"VLOOKUP(Fakturering!I10,'opslag slet ikke'!$A$2:$S$361,IF(Fakturering!C10=\"FV\",\"4\",IF(Fakturering!C10=\"FL2\",\"7\",IF(Fakturering!C10=\"FL3\",\"10\",IF(Fakturering!C10=\"FL4\",\"13\",IF(Fakturering!C10=\"NBFL\",\"16\",IF(Fakturering!C10=\"BIO\",\"19\",\"0\")))))),FALSE)","v":{"$error":"#N/A"}},{"$error":"#N/A"},"Kredit:",2110,"/",84,"-","0",0,"=>",0,null,0,"nætter"]
[{"$f":"'Vær del.'!A46:B46","v":0},null,{"$f":"'Vær del.'!D46","v":0},{"$f":"'Vær del.'!E46","v":0},0,{"$f":"'Vær del.'!F46","v":"00:00:00"},null,{"$f":"'Vær del.'!G46","v":"00:00:00"},0,null,0,0,{"$f":"VLOOKUP(Fakturering!I11,'opslag slet ikke'!$A$2:$S$361,IF(Fakturering!C11=\"FV\",\"4\",IF(Fakturering!C11=\"FL2\",\"7\",IF(Fakturering!C11=\"FL3\",\"10\",IF(Fakturering!C11=\"FL4\",\"13\",IF(Fakturering!C11=\"NBFL\",\"16\",IF(Fakturering!C11=\"BIO\",\"19\",\"0\")))))),FALSE)","v":{"$error":"#N/A"}},{"$error":"#N/A"},"Kredit:",2110,"/",84,"-","0",0,"=>",0,null,0,"nætter"]
[{"$f":"'Vær del.'!A47:B47","v":0},null,{"$f":"'Vær del.'!D47","v":0},{"$f":"'Vær del.'!E47","v":0},0,{"$f":"'Vær del.'!F47","v":"00:00:00"},null,{"$f":"'Vær del.'!G47","v":"00:00:00"},0,null,0,0,{"$f":"VLOOKUP(Fakturering!I12,'opslag slet ikke'!$A$2:$S$361,IF(Fakturering!C12=\"FV\",\"4\",IF(Fakturering!C12=\"FL2\",\"7\",IF(Fakturering!C12=\"FL3\",\"10\",IF(Fakturering!C12=\"FL4\",\"13\",IF(Fakturering!C12=\"NBFL\",\"16\",IF(Fakturering!C12=\"BIO\",\"19\",\"0\")))))),FALSE)","v":{"$error":"#N/A"}},{"$error":"#N/A"},"Kredit:",2110,"/",84,"-","0",0,"=>",0,null,0,"nætter"]
[{"$f":"'Vær del.'!A48:B48","v":0},null,{"$f":"'Vær del.'!D48","v":0},{"$f":"'Vær del.'!E48","v":0},0,{"$f":"'Vær del.'!F48","v":"00:00:00"},null,{"$f":"'Vær del.'!G48","v":"00:00:00"},0,null,0,0,{"$f":"VLOOKUP(Fakturering!I13,'opslag slet ikke'!$A$2:$S$361,IF(Fakturering!C13=\"FV\",\"4\",IF(Fakturering!C13=\"FL2\",\"7\",IF(Fakturering!C13=\"FL3\",\"10\",IF(Fakturering!C13=\"FL4\",\"13\",IF(Fakturering!C13=\"NBFL\",\"16\",IF(Fakturering!C13=\"BIO\",\"19\",\"0\")))))),FALSE)","v":{"$error":"#N/A"}},{"$error":"#N/A"},"Kredit:",2110,"/",84,"-","0",0,"=>",0,null,0,"nætter"]
["Kantine",null,"Lunch",null,null,"Fra den",null,"Til og med","Helligdag","antal middag"]
[{"$f":"ENG!B74","v":0},null,{"$f":"NETWORKDAYS(ENG!E74,ENG!F74,'Dato slet ikke'!A23+'Dato slet ikke'!A47+'Dato slet ikke'!A78)","v":0},null,{"$f":"IF(C15>0,50,0)","v":0},{"$f":"ENG!E74","v":"00:00:00"},null,{"$f":"ENG!F74","v":"00:00:00"},0,{"$f":"C15-I15","v":0},null,null,null,{"$f":"J15*E15","v":0},"Kredit:",2110,"/",81,"-",0,8,"=>",{"$f":"A15","v":0},null,"Kantine x",{"$f":"J15","v":0}]
[{"$f":"ENG!B75","v":0},null,{"$f":"NETWORKDAYS(ENG!E75,ENG!F75,'Dato slet ikke'!A24+'Dato slet ikke'!A48+'Dato slet ikke'!A79)","v":0},null,0,{"$f":"ENG!E75","v":"00:00:00"},null,{"$f":"ENG!F75","v":"00:00:00"},1,-1,null,null,null,0,"Kredit:",2110,"/",81,"-",0,8,"=>",0,null,"Kantine x",{"$f":"J16","v":-1}]
[{"$f":"ENG!B76","v":0},null,{"$f":"NETWORKDAYS(ENG!E76,ENG!F76,'Dato slet ikke'!A25+'Dato slet ikke'!A49+'Dato slet ikke'!A80)","v":0},null,0,{"$f":"ENG!E76","v":"00:00:00"},null,{"$f":"ENG!F76","v":"00:00:00"},0,0,null,null,null,0,"Kredit:",2110,"/",81,"-",0,8,"=>",0,null,"Kantine x",{"$f":"J6","v":0}]
[{"$f":"ENG!B77","v":0},null,{"$f":"NETWORKDAYS(ENG!E77,ENG!F77,'Dato slet ikke'!A26+'Dato slet ikke'!A50+'Dato slet ikke'!A81)","v":0},null,0,{"$f":"ENG!E77","v":"00:00:00"},null,{"$f":"ENG!F77","v":"00:00:00"},0,0,null,null,null,0,"Kredit:",2110,"/",81,"-",0,8,"=>",0,null,"Kantine x",0]
[{"$f":"ENG!B78","v":0},null,{"$f":"NETWORKDAYS(ENG!E78,ENG!F78,'Dato slet ikke'!A27+'Dato slet ikke'!A51+'Dato slet ikke'!A82)","v":0},null,0,{"$f":"ENG!E78","v":"00:00:00"},null,{"$f":"ENG!F78","v":"00:00:00"},0,0,null,null,null,0,"Kredit:",2110,"/",81,"-",0,8,"=>",0,null,"Kantine x",0]
[{"$f":"ENG!B79","v":0},null,{"$f":"NETWORKDAYS(ENG!E79,ENG!F79,'Dato slet ikke'!A28+'Dato slet ikke'!A52+'Dato slet ikke'!A83)","v":0},null,0,{"$f":"ENG!E79","v":"00:00:00"},null,{"$f":"ENG!F79","v":"00:00:00"},0,0,null,null,null,0,"Kredit:",2110,"/",81,"-",0,8,"=>",0,null,"Kantine x",0]
[{"$f":"ENG!B80","v":0},null,{"$f":"NETWORKDAYS(ENG!E80,ENG!F80,'Dato slet ikke'!A29+'Dato slet ikke'!A53+'Dato slet ikke'!A84)","v":0},null,0,{"$f":"ENG!E80","v":"00:00:00"},null,{"$f":"ENG!F80","v":"00:00:00"},0,0,null,null,null,0,"Kredit:",2110,"/",81,"-",0,8,"=>",0,null,"Kantine x",0]
[{"$f":"ENG!B81","v":0},null,{"$f":"NETWORKDAYS(ENG!E81,ENG!F81,'Dato slet ikke'!A30+'Dato slet ikke'!A54+'Dato slet ikke'!A85)","v":0},null,0,{"$f":"ENG!E81","v":"00:00:00"},null,{"$f":"ENG!F81","v":"00:00:00"},0,0,null,null,null,0,"Kredit:",2110,"/",81,"-",0,8,"=>",0,null,"Kantine x",0]
[{"$f":"ENG!B82","v":0},null,{"$f":"NETWORKDAYS(ENG!E82,ENG!F82,'Dato slet ikke'!A31+'Dato slet ikke'!A55+'Dato slet ikke'!A86)","v":0},null,0,{"$f":"ENG!E82","v":"00:00:00"},null,{"$f":"ENG!F82","v":"00:00:00"},0,0,null,null,null,0,"Kredit:",2110,"/",81,"-",0,8,"=>",0,null,"Kantine x",0]
[{"$f":"ENG!B83","v":0},null,{"$f":"NETWORKDAYS(ENG!E83,ENG!F83,'Dato slet ikke'!A32+'Dato slet ikke'!A56+'Dato slet ikke'!A87)","v":0},null,0,{"$f":"ENG!E83","v":"00:00:00"},null,{"$f":"ENG!F83","v":"00:00:00"},0,0,null,null,null,0,"Kredit:",2110,"/",81,"-",0,8,"=>",0,null,"Kantine x",0]
["Ekstra Service",null,"antal"]
["Ekstra seng",null,0,null,200,null,null,null,null,null,null,null,null,{"$f":"E26*C26","v":0},"Kredit:",{"$f":"P4","v":2110},"/",{"$f":"R4","v":84},"-","0",{"$error":"#NAME?"},"=>",null,null,{"$f":"A26","v":"Ekstra seng"}]
["Ekstra rengøring",null,0,null,300,null,null,null,null,null,null,null,null,{"$f":"E27*C27","v":0},"Kredit:",{"$f":"P5","v":2110},"/",84,"-","0",0,"=>",null,null,{"$f":"A27","v":"Ekstra rengøring"}]
[null,null,null,null,null,null,null,null,null,null,null,null,null,{"$f":"SUMIF(N4:N13,\"<>\"&\"#I/T\")+(N15+N16+N17+N18+N19+N20+N21+N22+N23+N24+N26+N27)","v":0}]
[null,null,null,null,null,null,null,null,"Phd. studerende  50% - rabat på overnatninger",null,null,null,"-  50%",{"$f":"IF(B1=\"x\",N28*50%,0)","v":0}]
[null,null,null,null,null,null,null,null,null,null,null,null,null,{"$f":"N28-N29","v":0},"Debit:",{"$f":"IF(M1=\"Intern\",1290,0+IF(M1=\"Ekstern\",9118,0+IF(M1=\"Ingen\",9118,0+IF(M1=\"Vælg\",9118,0))))","v":0},"/",{"$f":"IF(M1=\"Ekstern\",22,0+IF(M1=\"Intern\", 79,0+IF(M1=\"ingen\",\"10\",0)))","v":0},"-",{"$f":"IF(M1=\"ingen\",0,0)","v":0},{"$f":"IF(M1=\"Ingen\",1,0+IF(M1=\"Intern\",N1,0+IF(M1=\"Ekstern\",N1,0+IF(M1=\"Vælg\",1,0))))","v":0},{"$f":"V27","v":"=>"},{"$f":"A4","v":0},null,"Logi Nuuk"]
[null,null,null,null,null,null,null,null,null,null,null,null,null,null,"Debit:","1262","/",81,"-",null,{"$f":"N1","v":0},{"$f":"V10","v":"=>"},{"$f":"A4","v":0},null,"Logi Nuuk"]
[null,null,null,null,null,null,null,{"$f":"IF(H31=\"Omar bin Laden, Afganistan\",\"Han betaler sgu nok ikke; udfyld felt N6 med debitors navn\",\" \")","v":" "}]

{"sheet":"Faktura","index":3,"n_rows":59,"n_cols":10,"rows_kept":59,"cut":false,"hidden":true,"merged":[[5,1,5,2],[51,9,51,11],[54,9,54,11],[15,9,15,11],[12,1,12,4],[12,5,12,6]]}
[]
[null,{"$f":"ENG!B18","v":0}]
[null,{"$f":"ENG!B19","v":0}]
[null,{"$f":"ENG!B20","v":0}]
[null,{"$f":"ENG!B21","v":0},{"$f":"ENG!B22","v":0},null,null,null,null,"Invoice no."]
[null,{"$f":"ENG!B23","v":0},null,null,null,null,null,"Date:"]
[null,{"$f":"ENG!B24","v":0}]
[null,{"$f":"ENG!B25","v":0}]
[null,{"$f":"ENG!B26","v":0}]
[]
[]
[]
[null,"Acommodation on GINR, Booking nr:",null,null,null,{"$f":"'Vær del.'!A5","v":0}]
[]
[]
[null,"days",null,null,null,"from date","to date","DDK",null,"DDK"]
[null,{"$f":"Fakturering!I4","v":0},{"$f":"Fakturering!C4","v":0},{"$f":"Fakturering!A4","v":0},null,{"$f":"ENG!I59","v":"00:00:00"},{"$f":"ENG!J59","v":"00:00:00"},{"$f":"Fakturering!E4","v":0},null,{"$f":"Fakturering!M4","v":{"$error":"#N/A"}}]
[null,{"$f":"Fakturering!I5","v":0},{"$f":"Fakturering!C5","v":0},{"$f":"Fakturering!A5","v":0},null,{"$f":"ENG!I60","v":"00:00:00"},{"$f":"ENG!J60","v":"00:00:00"},{"$f":"Fakturering!E5","v":0},null,{"$f":"Fakturering!M5","v":{"$error":"#N/A"}}]
[null,{"$f":"Fakturering!I6","v":0},{"$f":"Fakturering!C6","v":0},{"$f":"Fakturering!A6","v":0},null,{"$f":"ENG!I61","v":"00:00:00"},{"$f":"ENG!J61","v":"00:00:00"},{"$f":"Fakturering!E6","v":0},null,{"$f":"Fakturering!M6","v":{"$error":"#N/A"}}]
[null,{"$f":"Fakturering!I7","v":0},{"$f":"Fakturering!C7","v":0},{"$f":"Fakturering!A7","v":0},null,{"$f":"ENG!I62","v":"00:00:00"},{"$f":"ENG!J62","v":"00:00:00"},{"$f":"Fakturering!E7","v":0},null,{"$f":"Fakturering!M7","v":{"$error":"#N/A"}}]
[null,{"$f":"Fakturering!I8","v":0},{"$f":"Fakturering!C8","v":0},{"$f":"Fakturering!A8","v":0},null,{"$f":"ENG!I63","v":"00:00:00"},{"$f":"ENG!J63","v":"00:00:00"},{"$f":"Fakturering!E8","v":0},null,{"$f":"Fakturering!M8","v":{"$error":"#N/A"}}]
[null,{"$f":"Fakturering!I9","v":0},{"$f":"Fakturering!C9","v":0},{"$f":"Fakturering!A9","v":0},null,{"$f":"ENG!I64","v":"00:00:00"},{"$f":"ENG!J64","v":"00:00:00"},{"$f":"Fakturering!E9","v":0},null,{"$f":"Fakturering!M9","v":{"$error":"#N/A"}}]
[null,{"$f":"Fakturering!I10","v":0},{"$f":"Fakturering!C10","v":0},{"$f":"Fakturering!A10","v":0},null,{"$f":"ENG!I65","v":"00:00:00"},{"$f":"ENG!J65","v":"00:00:00"},{"$f":"Fakturering!E10","v":0},null,{"$f":"Fakturering!M10","v":{"$error":"#N/A"}}]
[null,{"$f":"Fakturering!I11","v":0},{"$f":"Fakturering!C11","v":0},{"$f":"Fakturering!A11","v":0},null,{"$f":"ENG!I66","v":"00:00:00"},{"$f":"ENG!J66","v":"00:00:00"},{"$f":"Fakturering!E11","v":0},null,{"$f":"Fakturering!M11","v":{"$error":"#N/A"}}]
[null,{"$f":"Fakturering!I12","v":0},{"$f":"Fakturering!C12","v":0},{"$f":"Fakturering!A12","v":0},null,{"$f":"ENG!I67","v":"00:00:00"},{"$f":"ENG!J67","v":"00:00:00"},{"$f":"Fakturering!E12","v":0},null,{"$f":"Fakturering!M12","v":{"$error":"#N/A"}}]
[null,{"$f":"Fakturering!I13","v":0},{"$f":"Fakturering!C13","v":0},{"$f":"Fakturering!A13","v":0},null,{"$f":"ENG!I68","v":"00:00:00"},{"$f":"ENG!J68","v":"00:00:00"},{"$f":"Fakturering!E13","v":0},null,{"$f":"Fakturering!M13","v":{"$error":"#N/A"}}]
[null,"Cleaning"]
[null,1,"Cleaning fee",null,null,null,null,{"$f":"Fakturering!K4","v":0},null,{"$f":"H28","v":0}]
[null,1,"Cleaning fee",null,null,null,null,{"$f":"Fakturering!K5","v":0},null,{"$f":"H29","v":0}]
[null,1,"Cleaning fee",null,null,null,null,{"$f":"Fakturering!K6","v":0},null,0]
[null,1,"Cleaning fee",null,null,null,null,{"$f":"Fakturering!K7","v":0},null,0]
[null,1,"Cleaning fee",null,null,null,null,{"$f":"Fakturering!K8","v":0},null,0]
[null,1,"Cleaning fee",null,null,null,null,{"$f":"Fakturering!K9","v":0},null,0]
[null,1,"Cleaning fee",null,null,null,null,{"$f":"Fakturering!K10","v":0},null,0]
[null,1,"Cleaning fee",null,null,null,null,{"$f":"Fakturering!K11","v":0},null,0]
[null,1,"Cleaning fee",null,null,null,null,{"$f":"Fakturering!K12","v":0},null,0]
[null,1,"Cleaning fee",null,null,null,null,{"$f":"Fakturering!K13","v":0},null,0]
[null,{"$f":"Fakturering!C14","v":"Lunch"},null,null,null,"from date","to date"]
[null,{"$f":"Fakturering!J15","v":0},{"$f":"ENG!B74","v":0},null,null,{"$f":"ENG!E74","v":"00:00:00"},{"$f":"ENG!F74","v":"00:00:00"},{"$f":"Fakturering!E15","v":0},null,{"$f":"H39*B39","v":0}]
[null,{"$f":"Fakturering!J16","v":-1},{"$f":"ENG!B75","v":0},null,null,{"$f":"ENG!E75","v":"00:00:00"},{"$f":"ENG!F75","v":"00:00:00"},{"$f":"Fakturering!E16","v":0},null,{"$f":"H40*B40","v":0}]
[null,{"$f":"Fakturering!J17","v":0},{"$f":"ENG!B76","v":0},null,null,{"$f":"ENG!E76","v":"00:00:00"},{"$f":"ENG!F76","v":"00:00:00"},{"$f":"Fakturering!E17","v":0},null,0]
[null,{"$f":"Fakturering!J18","v":0},{"$f":"ENG!B77","v":0},null,null,{"$f":"ENG!E77","v":"00:00:00"},{"$f":"ENG!F77","v":"00:00:00"},{"$f":"Fakturering!E18","v":0},null,0]
[null,{"$f":"Fakturering!J19","v":0},{"$f":"ENG!B78","v":0},null,null,{"$f":"ENG!E78","v":"00:00:00"},{"$f":"ENG!F78","v":"00:00:00"},{"$f":"Fakturering!E19","v":0},null,0]
[null,{"$f":"Fakturering!J20","v":0},{"$f":"ENG!B79","v":0},null,null,{"$f":"ENG!E79","v":"00:00:00"},{"$f":"ENG!F79","v":"00:00:00"},{"$f":"Fakturering!E20","v":0},null,0]
[null,{"$f":"Fakturering!J21","v":0},{"$f":"ENG!B80","v":0},null,null,{"$f":"ENG!E80","v":"00:00:00"},{"$f":"ENG!F80","v":"00:00:00"},{"$f":"Fakturering!E21","v":0},null,0]
[null,{"$f":"Fakturering!J22","v":0},{"$f":"ENG!B81","v":0},null,null,{"$f":"ENG!E81","v":"00:00:00"},{"$f":"ENG!F81","v":"00:00:00"},{"$f":"Fakturering!E22","v":0},null,0]
[null,{"$f":"Fakturering!J23","v":0},{"$f":"ENG!B82","v":0},null,null,{"$f":"ENG!E82","v":"00:00:00"},{"$f":"ENG!F82","v":"00:00:00"},{"$f":"Fakturering!E23","v":0},null,0]
[null,{"$f":"Fakturering!J24","v":0},{"$f":"ENG!B83","v":0},null,null,{"$f":"ENG!E83","v":"00:00:00"},{"$f":"ENG!F83","v":"00:00:00"},{"$f":"Fakturering!E24","v":0},null,0]
[null,"Extra Service"]
[null,{"$f":"Fakturering!C26","v":0},"Extra bed",null,null,null,null,{"$f":"Fakturering!E26","v":200},null,{"$f":"H50*B50","v":0}]
[null,{"$f":"Fakturering!C27","v":0},"Extra cleaning",null,null,null,null,{"$f":"Fakturering!E27","v":300},null,{"$f":"H51*B51","v":0}]
[null,"Phd. Studerende rabat ",null,null,null,null,null,null,null,{"$f":"-Fakturering!N29","v":0}]
[null,null,null,null,null,null,null,null,null,"Total"]
[null,"Terms of payment:  Net cash",null,null,null,null,null,{"$f":"J16","v":"DDK"},null,{"$f":"SUMIF(J17:J26,\"<>\"&\"#I/T\")+(J39+J40+J41+J42+J43+J44+J45+J46+J47+J48)+(J28+J29+J30+J31+J32+J33+J34+J35+J36+J37)+(J50+J51)+(J52)","v":0}]
[]
[]
[null,"Customers copy"]
[null,"Copy for accounting "]
[null,"Copy for accounting of payment"]

{"sheet":"Dato slet ikke","index":4,"n_rows":637,"n_cols":2,"rows_kept":637,"cut":false,"hidden":true,"merged":[]}
["2018-04-05"]
["2018-04-06"]
["2018-04-07"]
["2018-04-08"]
["2018-04-09"]
["2018-04-10"]
["2018-04-11"]
["2018-04-12"]
["2018-04-13"]
["2018-04-14"]
["2018-04-15"]
["2018-04-16"]
["2018-04-17"]
["2018-04-18"]
["2018-04-19"]
["2018-04-20"]
["2018-04-21"]
["2018-04-22"]
["2018-04-23"]
["2018-04-24"]
["2018-04-25"]
["2018-04-26"]
["2018-04-27","helligedag"]
["2018-04-28"]
["2018-04-29"]
["2018-04-30"]
["2018-05-01"]
["2018-05-02"]
["2018-05-03"]
["2018-05-04"]
["2018-05-05"]
["2018-05-06"]
["2018-05-07"]
["2018-05-08"]
["2018-05-09"]
["2018-05-10"]
["2018-05-11"]
["2018-05-12"]
["2018-05-13"]
["2018-05-14"]
["2018-05-15"]
["2018-05-16"]
["2018-05-17"]
["2018-05-18"]
["2018-05-19"]
["2018-05-20"]
["2018-05-21","helligedag"]
["2018-05-22"]
["2018-05-23"]
["2018-05-24"]
["2018-05-25"]
["2018-05-26"]
["2018-05-27"]
["2018-05-28"]
["2018-05-29"]
["2018-05-30"]
["2018-05-31"]
["2018-06-01"]
["2018-06-02"]
["2018-06-03"]
["2018-06-04"]
["2018-06-05"]
["2018-06-06"]
["2018-06-07"]
["2018-06-08"]
["2018-06-09"]
["2018-06-10"]
["2018-06-11"]
["2018-06-12"]
["2018-06-13"]
["2018-06-14"]
["2018-06-15"]
["2018-06-16"]
["2018-06-17"]
["2018-06-18"]
["2018-06-19"]
["2018-06-20"]
["2018-06-21","nationaldag"]
["2018-06-22"]
["2018-06-23"]
["2018-06-24"]
["2018-06-25"]
["2018-06-26"]
["2018-06-27"]
["2018-06-28"]
["2018-06-29"]
["2018-06-30"]
["2018-07-01"]
["2018-07-02"]
["2018-07-03"]
["2018-07-04"]
["2018-07-05"]
["2018-07-06"]
["2018-07-07"]
["2018-07-08"]
["2018-07-09"]
["2018-07-10"]
["2018-07-11"]
["2018-07-12"]
["2018-07-13"]
["2018-07-14"]
["2018-07-15"]
["2018-07-16"]
["2018-07-17"]
["2018-07-18"]
["2018-07-19"]
["2018-07-20"]
["2018-07-21"]
["2018-07-22"]
["2018-07-23"]
["2018-07-24"]
["2018-07-25"]
["2018-07-26"]
["2018-07-27"]
["2018-07-28"]
["2018-07-29"]
["2018-07-30"]
["2018-07-31"]
["2018-08-01"]
["2018-08-02"]
["2018-08-03"]
["2018-08-04"]
["2018-08-05"]
["2018-08-06"]
["2018-08-07"]
["2018-08-08"]
["2018-08-09"]
["2018-08-10"]
["2018-08-11"]
["2018-08-12"]
["2018-08-13"]
["2018-08-14"]
["2018-08-15"]
["2018-08-16"]
["2018-08-17"]
["2018-08-18"]
["2018-08-19"]
["2018-08-20"]
["2018-08-21"]
["2018-08-22"]
["2018-08-23"]
["2018-08-24"]
["2018-08-25"]
["2018-08-26"]
["2018-08-27"]
["2018-08-28"]
["2018-08-29"]
["2018-08-30"]
["2018-08-31"]
["2018-09-01"]
["2018-09-02"]
["2018-09-03"]
["2018-09-04"]
["2018-09-05"]
["2018-09-06"]
["2018-09-07"]
["2018-09-08"]
["2018-09-09"]
["2018-09-10"]
["2018-09-11"]
["2018-09-12"]
["2018-09-13"]
["2018-09-14"]
["2018-09-15"]
["2018-09-16"]
["2018-09-17"]
["2018-09-18"]
["2018-09-19"]
["2018-09-20"]
["2018-09-21"]
["2018-09-22"]
["2018-09-23"]
["2018-09-24"]
["2018-09-25"]
["2018-09-26"]
["2018-09-27"]
["2018-09-28"]
["2018-09-29"]
["2018-09-30"]
["2018-10-01"]
["2018-10-02"]
["2018-10-03"]
["2018-10-04"]
["2018-10-05"]
["2018-10-06"]
["2018-10-07"]
["2018-10-08"]
["2018-10-09"]
["2018-10-10"]
["2018-10-11"]
["2018-10-12"]
["2018-10-13"]
["2018-10-14"]
["2018-10-15"]
["2018-10-16"]
["2018-10-17"]
["2018-10-18"]
["2018-10-19"]
["2018-10-20"]
["2018-10-21"]
["2018-10-22"]
["2018-10-23"]
["2018-10-24"]
["2018-10-25"]
["2018-10-26"]
["2018-10-27"]
["2018-10-28"]
["2018-10-29"]
["2018-10-30"]
["2018-10-31"]
["2018-11-01"]
["2018-11-02"]
["2018-11-03"]
["2018-11-04"]
["2018-11-05"]
["2018-11-06"]
["2018-11-07"]
["2018-11-08"]
["2018-11-09"]
["2018-11-10"]
["2018-11-11"]
["2018-11-12"]
["2018-11-13"]
["2018-11-14"]
["2018-11-15"]
["2018-11-16"]
["2018-11-17"]
["2018-11-18"]
["2018-11-19"]
["2018-11-20"]
["2018-11-21"]
["2018-11-22"]
["2018-11-23"]
["2018-11-24"]
["2018-11-25"]
["2018-11-26"]
["2018-11-27"]
["2018-11-28"]
["2018-11-29"]
["2018-11-30"]
["2018-12-01"]
["2018-12-02"]
["2018-12-03"]
["2018-12-04"]
["2018-12-05"]
["2018-12-06"]
["2018-12-07"]
["2018-12-08"]
["2018-12-09"]
["2018-12-10"]
["2018-12-11"]
["2018-12-12"]
["2018-12-13"]
["2018-12-14"]
["2018-12-15"]
["2018-12-16"]
["2018-12-17"]
["2018-12-18"]
["2018-12-19"]
["2018-12-20"]
["2018-12-21"]
["2018-12-22"]
["2018-12-23"]
["2018-12-24"]
["2018-12-25"]
["2018-12-26"]
["2018-12-27"]
["2018-12-28"]
["2018-12-29"]
["2018-12-30"]
["2018-12-31"]
["2019-01-01"]
["2019-01-02"]
["2019-01-03"]
["2019-01-04"]
["2019-01-05"]
["2019-01-06"]
["2019-01-07"]
["2019-01-08"]
["2019-01-09"]
["2019-01-10"]
["2019-01-11"]
["2019-01-12"]
["2019-01-13"]
["2019-01-14"]
["2019-01-15"]
["2019-01-16"]
["2019-01-17"]
["2019-01-18"]
["2019-01-19"]
["2019-01-20"]
["2019-01-21"]
["2019-01-22"]
["2019-01-23"]
["2019-01-24"]
["2019-01-25"]
["2019-01-26"]
["2019-01-27"]
["2019-01-28"]
["2019-01-29"]
["2019-01-30"]
["2019-01-31"]
["2019-02-01"]
["2019-02-02"]
["2019-02-03"]
["2019-02-04"]
["2019-02-05"]
["2019-02-06"]
["2019-02-07"]
["2019-02-08"]
["2019-02-09"]
["2019-02-10"]
["2019-02-11"]
["2019-02-12"]
["2019-02-13"]
["2019-02-14"]
["2019-02-15"]
["2019-02-16"]
["2019-02-17"]
["2019-02-18"]
["2019-02-19"]
["2019-02-20"]
["2019-02-21"]
["2019-02-22"]
["2019-02-23"]
["2019-02-24"]
["2019-02-25"]
["2019-02-26"]
["2019-02-27"]
["2019-02-28"]
["2019-03-01"]
["2019-03-02"]
["2019-03-03"]
["2019-03-04"]
["2019-03-05"]
["2019-03-06"]
["2019-03-07"]
["2019-03-08"]
["2019-03-09"]
["2019-03-10"]
["2019-03-11"]
["2019-03-12"]
["2019-03-13"]
["2019-03-14"]
["2019-03-15"]
["2019-03-16"]
["2019-03-17"]
["2019-03-18"]
["2019-03-19"]
["2019-03-20"]
["2019-03-21"]
["2019-03-22"]
["2019-03-23"]
["2019-03-24"]
["2019-03-25"]
["2019-03-26"]
["2019-03-27"]
["2019-03-28"]
["2019-03-29"]
["2019-03-30"]
["2019-03-31"]
["2019-04-01"]
["2019-04-02"]
["2019-04-03"]
["2019-04-04"]
["2019-04-05"]
["2019-04-06"]
["2019-04-07"]
["2019-04-08"]
["2019-04-09"]
["2019-04-10"]
["2019-04-11"]
["2019-04-12"]
["2019-04-13"]
["2019-04-14"]
["2019-04-15"]
["2019-04-16"]
["2019-04-17"]
["2019-04-18"]
["2019-04-19"]
["2019-04-20"]
["2019-04-21"]
["2019-04-22"]
["2019-04-23"]
["2019-04-24"]
["2019-04-25"]
["2019-04-26"]
["2019-04-27"]
["2019-04-28"]
["2019-04-29"]
["2019-04-30"]
["2019-05-01"]
["2019-05-02"]
["2019-05-03"]
["2019-05-04"]
["2019-05-05"]
["2019-05-06"]
["2019-05-07"]
["2019-05-08"]
["2019-05-09"]
["2019-05-10"]
["2019-05-11"]
["2019-05-12"]
["2019-05-13"]
["2019-05-14"]
["2019-05-15"]
["2019-05-16"]
["2019-05-17"]
["2019-05-18"]
["2019-05-19"]
["2019-05-20"]
["2019-05-21"]
["2019-05-22"]
["2019-05-23"]
["2019-05-24"]
["2019-05-25"]
["2019-05-26"]
["2019-05-27"]
["2019-05-28"]
["2019-05-29"]
["2019-05-30"]
["2019-05-31"]
["2019-06-01"]
["2019-06-02"]
["2019-06-03"]
["2019-06-04"]
["2019-06-05"]
["2019-06-06"]
["2019-06-07"]
["2019-06-08"]
["2019-06-09"]
["2019-06-10"]
["2019-06-11"]
["2019-06-12"]
["2019-06-13"]
["2019-06-14"]
["2019-06-15"]
["2019-06-16"]
["2019-06-17"]
["2019-06-18"]
["2019-06-19"]
["2019-06-20"]
["2019-06-21"]
["2019-06-22"]
["2019-06-23"]
["2019-06-24"]
["2019-06-25"]
["2019-06-26"]
["2019-06-27"]
["2019-06-28"]
["2019-06-29"]
["2019-06-30"]
["2019-07-01"]
["2019-07-02"]
["2019-07-03"]
["2019-07-04"]
["2019-07-05"]
["2019-07-06"]
["2019-07-07"]
["2019-07-08"]
["2019-07-09"]
["2019-07-10"]
["2019-07-11"]
["2019-07-12"]
["2019-07-13"]
["2019-07-14"]
["2019-07-15"]
["2019-07-16"]
["2019-07-17"]
["2019-07-18"]
["2019-07-19"]
["2019-07-20"]
["2019-07-21"]
["2019-07-22"]
["2019-07-23"]
["2019-07-24"]
["2019-07-25"]
["2019-07-26"]
["2019-07-27"]
["2019-07-28"]
["2019-07-29"]
["2019-07-30"]
["2019-07-31"]
["2019-08-01"]
["2019-08-02"]
["2019-08-03"]
["2019-08-04"]
["2019-08-05"]
["2019-08-06"]
["2019-08-07"]
["2019-08-08"]
["2019-08-09"]
["2019-08-10"]
["2019-08-11"]
["2019-08-12"]
["2019-08-13"]
["2019-08-14"]
["2019-08-15"]
["2019-08-16"]
["2019-08-17"]
["2019-08-18"]
["2019-08-19"]
["2019-08-20"]
["2019-08-21"]
["2019-08-22"]
["2019-08-23"]
["2019-08-24"]
["2019-08-25"]
["2019-08-26"]
["2019-08-27"]
["2019-08-28"]
["2019-08-29"]
["2019-08-30"]
["2019-08-31"]
["2019-09-01"]
["2019-09-02"]
["2019-09-03"]
["2019-09-04"]
["2019-09-05"]
["2019-09-06"]
["2019-09-07"]
["2019-09-08"]
["2019-09-09"]
["2019-09-10"]
["2019-09-11"]
["2019-09-12"]
["2019-09-13"]
["2019-09-14"]
["2019-09-15"]
["2019-09-16"]
["2019-09-17"]
["2019-09-18"]
["2019-09-19"]
["2019-09-20"]
["2019-09-21"]
["2019-09-22"]
["2019-09-23"]
["2019-09-24"]
["2019-09-25"]
["2019-09-26"]
["2019-09-27"]
["2019-09-28"]
["2019-09-29"]
["2019-09-30"]
["2019-10-01"]
["2019-10-02"]
["2019-10-03"]
["2019-10-04"]
["2019-10-05"]
["2019-10-06"]
["2019-10-07"]
["2019-10-08"]
["2019-10-09"]
["2019-10-10"]
["2019-10-11"]
["2019-10-12"]
["2019-10-13"]
["2019-10-14"]
["2019-10-15"]
["2019-10-16"]
["2019-10-17"]
["2019-10-18"]
["2019-10-19"]
["2019-10-20"]
["2019-10-21"]
["2019-10-22"]
["2019-10-23"]
["2019-10-24"]
["2019-10-25"]
["2019-10-26"]
["2019-10-27"]
["2019-10-28"]
["2019-10-29"]
["2019-10-30"]
["2019-10-31"]
["2019-11-01"]
["2019-11-02"]
["2019-11-03"]
["2019-11-04"]
["2019-11-05"]
["2019-11-06"]
["2019-11-07"]
["2019-11-08"]
["2019-11-09"]
["2019-11-10"]
["2019-11-11"]
["2019-11-12"]
["2019-11-13"]
["2019-11-14"]
["2019-11-15"]
["2019-11-16"]
["2019-11-17"]
["2019-11-18"]
["2019-11-19"]
["2019-11-20"]
["2019-11-21"]
["2019-11-22"]
["2019-11-23"]
["2019-11-24"]
["2019-11-25"]
["2019-11-26"]
["2019-11-27"]
["2019-11-28"]
["2019-11-29"]
["2019-11-30"]
["2019-12-01"]
["2019-12-02"]
["2019-12-03"]
["2019-12-04"]
["2019-12-05"]
["2019-12-06"]
["2019-12-07"]
["2019-12-08"]
["2019-12-09"]
["2019-12-10"]
["2019-12-11"]
["2019-12-12"]
["2019-12-13"]
["2019-12-14"]
["2019-12-15"]
["2019-12-16"]
["2019-12-17"]
["2019-12-18"]
["2019-12-19"]
["2019-12-20"]
["2019-12-21"]
["2019-12-22"]
["2019-12-23"]
["2019-12-24"]
["2019-12-25"]
["2019-12-26"]
["2019-12-27"]
["2019-12-28"]
["2019-12-29"]
["2019-12-30"]
["2019-12-31"]
["2020-01-01"]

{"sheet":"opslag slet ikke","index":5,"n_rows":365,"n_cols":29,"rows_kept":365,"cut":false,"hidden":true,"merged":[]}
["Dag","FV","opr.pris","Max pris","FL2","opr.pris","Max pris","FL3","opr.pris","Max pris","FL4","opr.pris","Max pris","NBFL","opr.pris","Max pris","BIO","opr.pris","Max pris",null,null,"Type","dag","Maxpris",null,null,null,null,{"$f":"NOW()","v":"2018-08-07T10:14:23.070"}]
[1,400,{"$f":"B2*A2","v":400},{"$f":"C2","v":400},500,{"$f":"E2*A2","v":500},{"$f":"F2","v":500},650,650,{"$f":"I2","v":650},800,{"$f":"K2*A2","v":800},{"$f":"L2","v":800},500,{"$f":"N2*A2","v":500},{"$f":"O2","v":500},500,{"$f":"Q2*A2","v":500},{"$f":"R2","v":500},null,null,null,null,null,null,null,null,null,{"$f":"AC1+1","v":"2018-08-08T10:14:23.070"}]
[2,{"$f":"B2","v":400},{"$f":"B3*A3","v":800},800,{"$f":"E2","v":500},1000,1000,{"$f":"H2","v":650},{"$f":"H3*A3","v":1300},1300,{"$f":"K2","v":800},{"$f":"K3*A3","v":1600},1600,{"$f":"N2","v":500},1000,1000,{"$f":"Q2","v":500},1000,1000,null,null,"FV",10,{"$f":"VLOOKUP(W3,A2:S361,IF(V3=\"FV\",\"4\",IF(V3=\"FL2\",\"7\",IF(V3=\"FL3\",\"10\",IF(V3=\"FL4\",\"13\",IF(V3=\"NBFL\",\"16\",IF(V3=\"BIO\",\"19\",\"0\")))))),FALSE)","v":4000},null,null,null,null,{"$f":"AC2+1","v":"2018-08-09T10:14:23.070"}]
[3,{"$f":"B3","v":400},1200,1200,{"$f":"E3","v":500},1500,1500,{"$f":"H3","v":650},{"$f":"H4*A4","v":1950},1950,{"$f":"K3","v":800},{"$f":"K4*A4","v":2400},2400,{"$f":"N3","v":500},1500,1500,{"$f":"Q3","v":500},1500,1500,null,null,null,null,null,null,null,null,null,"2018-08-10T10:14:23.070"]
[4,400,1600,1600,500,2000,2000,650,2600,2600,800,3200,3200,500,2000,2000,500,2000,2000,null,null,null,null,null,null,null,null,null,"2018-08-11T10:14:23.070"]
[5,400,2000,2000,500,2500,2500,650,3250,3250,800,4000,4000,500,2500,2500,500,2500,2500,null,null,null,null,null,null,null,null,null,"2018-08-12T10:14:23.070"]
[6,400,2400,2400,500,3000,3000,650,3900,3900,800,4800,4800,500,3000,3000,500,3000,3000,null,null,null,null,null,null,null,null,null,"2018-08-13T10:14:23.070"]
[7,400,2800,2800,500,3500,3500,650,4550,4550,800,5600,5600,500,3500,3500,500,3500,3500,null,null,null,null,null,null,null,null,null,"2018-08-14T10:14:23.070"]
[8,400,3200,3200,500,4000,4000,650,5200,5200,800,6400,6400,500,4000,4000,500,4000,4000,null,null,null,null,null,null,null,null,null,"2018-08-15T10:14:23.070"]
[9,400,3600,3600,500,4500,4500,650,5850,5850,800,7200,7200,500,4500,4500,500,4500,4500,null,null,null,null,null,null,null,null,null,"2018-08-16T10:14:23.070"]
[10,400,4000,{"$f":"B11*A11","v":4000},500,5000,{"$f":"E11*A11","v":5000},650,6500,{"$f":"H11*A11","v":6500},800,8000,{"$f":"K11*A11","v":8000},500,5000,5000,500,5000,{"$f":"Q11*A11","v":5000},null,null,null,null,null,null,null,null,null,"2018-08-17T10:14:23.070"]
[11,400,4400,{"$f":"D11","v":4000},500,5500,{"$f":"G11","v":5000},650,7150,{"$f":"J11","v":6500},800,8800,{"$f":"M11","v":8000},500,5500,{"$f":"P11","v":5000},500,5500,{"$f":"S11","v":5000},null,null,null,null,null,null,null,null,null,"2018-08-18T10:14:23.070"]
[12,400,4800,{"$f":"D12","v":4000},500,6000,{"$f":"G12","v":5000},650,7800,{"$f":"J12","v":6500},800,9600,{"$f":"M12","v":8000},500,6000,{"$f":"P12","v":5000},500,6000,{"$f":"S12","v":5000},null,null,null,null,null,null,null,null,null,"2018-08-19T10:14:23.070"]
[13,400,5200,{"$f":"D13","v":4000},500,6500,{"$f":"G13","v":5000},650,8450,{"$f":"J13","v":6500},800,10400,{"$f":"M13","v":8000},500,6500,{"$f":"P13","v":5000},500,6500,{"$f":"S13","v":5000},null,null,null,null,null,null,null,null,null,"2018-08-20T10:14:23.070"]
[14,400,5600,4000,500,7000,5000,650,9100,6500,800,11200,8000,500,7000,5000,500,7000,5000,null,null,null,null,null,null,null,null,null,"2018-08-21T10:14:23.070"]
[15,400,6000,4000,500,7500,5000,650,9750,6500,800,12000,8000,500,7500,5000,500,7500,5000,null,null,"Her er tabel med forkellige max priser.",null,null,null,null,null,null,"2018-08-22T10:14:23.070"]
[16,400,6400,4000,500,8000,5000,650,10400,6500,800,12800,8000,500,8000,5000,500,8000,5000,null,null,null,null,null,null,null,null,null,"2018-08-23T10:14:23.070"]
[17,400,6800,4000,500,8500,5000,650,11050,6500,800,13600,8000,500,8500,5000,500,8500,5000,null,null,"Kolonne A er = dagene",null,null,null,null,null,null,"2018-08-24T10:14:23.070"]
[18,400,7200,4000,500,9000,5000,650,11700,6500,800,14400,8000,500,9000,5000,500,9000,5000,null,null,"Kolonne B, E, H, K, N og Q er = forskellige \"boligtyper\" med priser.",null,null,null,null,null,null,"2018-08-25T10:14:23.070"]
[19,400,7600,4000,500,9500,5000,650,12350,6500,800,15200,8000,500,9500,5000,500,9500,5000,null,null,"Kolonne C, F, I, L, O og R er = oprindelig pris",null,null,null,null,null,null,"2018-08-26T10:14:23.070"]
[20,400,8000,4000,500,10000,5000,650,13000,6500,800,16000,8000,500,10000,5000,500,10000,5000,null,null,"Kolonne D, G, J, M, P og S er = MAKS priser",null,null,null,null,null,null,"2018-08-27T10:14:23.070"]
[21,400,8400,4000,500,10500,5000,650,13650,6500,800,16800,8000,500,10500,5000,500,10500,5000,null,null,null,null,null,null,null,null,null,"2018-08-28T10:14:23.070"]
[22,400,8800,4000,500,11000,5000,650,14300,6500,800,17600,8000,500,11000,5000,500,11000,5000,null,null,"På V3 er en rulleliste over boligtyper hvor man kan vælger en af dem.",null,null,null,null,null,null,"2018-08-29T10:14:23.070"]
[23,400,9200,4000,500,11500,5000,650,14950,6500,800,18400,8000,500,11500,5000,500,11500,5000,null,null,"På W3 er man kan indtaste dagene fra 1-360 dag",null,null,null,null,null,null,"2018-08-30T10:14:23.070"]
[24,400,9600,4000,500,12000,5000,650,15600,6500,800,19200,8000,500,12000,5000,500,12000,5000,null,null,"På X3 skal man finde MAKS PRIS som står på Kolonne D, G, J, M, P og S.",null,null,null,null,null,null,"2018-08-31T10:14:23.070"]
[25,400,10000,4000,500,12500,5000,650,16250,6500,800,20000,8000,500,12500,5000,500,12500,5000,null,null,null,null,null,null,null,null,null,"2018-09-01T10:14:23.070"]
[26,400,10400,4000,500,13000,5000,650,16900,6500,800,20800,8000,500,13000,5000,500,13000,5000,null,null,"Eks. når jeg vælger FV med 36 dag skal kunne er lige med 16.000kr.",null,null,null,null,null,null,"2018-09-02T10:14:23.070"]
[27,400,10800,4000,500,13500,5000,650,17550,6500,800,21600,8000,500,13500,5000,500,13500,5000,null,null,"Når man skifter til FL2 med 36 dag = 20.000kr.",null,null,null,null,null,null,"2018-09-03T10:14:23.070"]
[28,400,11200,4000,500,14000,5000,650,18200,6500,800,22400,8000,500,14000,5000,500,14000,5000,null,null,null,null,null,null,null,null,null,"2018-09-04T10:14:23.070"]
[29,400,11600,4000,500,14500,5000,650,18850,6500,800,23200,8000,500,14500,5000,500,14500,5000,null,null,null,null,null,null,null,null,null,"2018-09-05T10:14:23.070"]
[30,400,12000,4000,500,15000,5000,650,19500,6500,800,24000,8000,500,15000,5000,500,15000,5000,null,null,null,null,null,null,null,null,null,"2018-09-06T10:14:23.070"]
[31,400,12400,{"$f":"D31*2","v":8000},500,15500,{"$f":"G31*2","v":10000},650,20150,{"$f":"J31*2","v":13000},800,24800,{"$f":"M31+M11","v":16000},500,15500,{"$f":"P31+P11","v":10000},500,15500,{"$f":"S31+S11","v":10000},null,null,null,null,null,null,null,null,null,"2018-09-07T10:14:23.070"]
[32,400,12800,{"$f":"D32","v":8000},500,16000,{"$f":"G32","v":10000},650,20800,{"$f":"J32","v":13000},800,25600,{"$f":"M32","v":16000},500,16000,{"$f":"P32","v":10000},500,16000,{"$f":"S32","v":10000},null,null,null,null,null,null,null,null,null,"2018-09-08T10:14:23.070"]
[33,400,13200,{"$f":"D33","v":8000},500,16500,{"$f":"G33","v":10000},650,21450,{"$f":"J33","v":13000},800,26400,{"$f":"M33","v":16000},500,16500,{"$f":"P33","v":10000},500,16500,{"$f":"S33","v":10000},null,null,null,null,null,null,null,null,null,"2018-09-09T10:14:23.070"]
[34,400,13600,8000,500,17000,10000,650,22100,13000,800,27200,16000,500,17000,10000,500,17000,10000,null,null,null,null,null,null,null,null,null,"2018-09-10T10:14:23.070"]
[35,400,14000,8000,500,17500,10000,650,22750,13000,800,28000,16000,500,17500,10000,500,17500,10000,null,null,null,null,null,null,null,null,null,"2018-09-11T10:14:23.070"]
[36,400,14400,8000,500,18000,10000,650,23400,13000,800,28800,16000,500,18000,10000,500,18000,10000,null,null,null,null,null,null,null,null,null,"2018-09-12T10:14:23.070"]
[37,400,14800,8000,500,18500,10000,650,24050,13000,800,29600,16000,500,18500,10000,500,18500,10000,null,null,null,null,null,null,null,null,null,"2018-09-13T10:14:23.070"]
[38,400,15200,8000,500,19000,10000,650,24700,13000,800,30400,16000,500,19000,10000,500,19000,10000,null,null,null,null,null,null,null,null,null,"2018-09-14T10:14:23.070"]
[39,400,15600,8000,500,19500,10000,650,25350,13000,800,31200,16000,500,19500,10000,500,19500,10000,null,null,null,null,null,null,null,null,null,"2018-09-15T10:14:23.070"]
[40,400,16000,8000,500,20000,10000,650,26000,13000,800,32000,16000,500,20000,10000,500,20000,10000,null,null,null,null,null,null,null,null,null,"2018-09-16T10:14:23.070"]
[41,400,16400,8000,500,20500,10000,650,26650,13000,800,32800,16000,500,20500,10000,500,20500,10000,null,null,null,null,null,null,null,null,null,"2018-09-17T10:14:23.070"]
[42,400,16800,8000,500,21000,10000,650,27300,13000,800,33600,16000,500,21000,10000,500,21000,10000,null,null,null,null,null,null,null,null,null,"2018-09-18T10:14:23.070"]
[43,400,17200,8000,500,21500,10000,650,27950,13000,800,34400,16000,500,21500,10000,500,21500,10000,null,null,null,null,null,null,null,null,null,"2018-09-19T10:14:23.070"]
[44,400,17600,8000,500,22000,10000,650,28600,13000,800,35200,16000,500,22000,10000,500,22000,10000,null,null,null,null,null,null,null,null,null,"2018-09-20T10:14:23.070"]
[45,400,18000,8000,500,22500,10000,650,29250,13000,800,36000,16000,500,22500,10000,500,22500,10000,null,null,null,null,null,null,null,null,null,"2018-09-21T10:14:23.070"]
[46,400,18400,8000,500,23000,10000,650,29900,13000,800,36800,16000,500,23000,10000,500,23000,10000,null,null,null,null,null,null,null,null,null,"2018-09-22T10:14:23.070"]
[47,400,18800,8000,500,23500,10000,650,30550,13000,800,37600,16000,500,23500,10000,500,23500,10000,null,null,null,null,null,null,null,null,null,"2018-09-23T10:14:23.070"]
[48,400,19200,8000,500,24000,10000,650,31200,13000,800,38400,16000,500,24000,10000,500,24000,10000,null,null,null,null,null,null,null,null,null,"2018-09-24T10:14:23.070"]
[49,400,19600,8000,500,24500,10000,650,31850,13000,800,39200,16000,500,24500,10000,500,24500,10000,null,null,null,null,null,null,null,null,null,"2018-09-25T10:14:23.070"]
[50,400,20000,8000,500,25000,10000,650,32500,13000,800,40000,16000,500,25000,10000,500,25000,10000,null,null,null,null,null,null,null,null,null,"2018-09-26T10:14:23.070"]
[51,400,20400,8000,500,25500,10000,650,33150,13000,800,40800,16000,500,25500,10000,500,25500,10000,null,null,null,null,null,null,null,null,null,"2018-09-27T10:14:23.070"]
[52,400,20800,8000,500,26000,10000,650,33800,13000,800,41600,16000,500,26000,10000,500,26000,10000,null,null,null,null,null,null,null,null,null,"2018-09-28T10:14:23.070"]
[53,400,21200,8000,500,26500,10000,650,34450,13000,800,42400,16000,500,26500,10000,500,26500,10000,null,null,null,null,null,null,null,null,null,"2018-09-29T10:14:23.070"]
[54,400,21600,8000,500,27000,10000,650,35100,13000,800,43200,16000,500,27000,10000,500,27000,10000,null,null,null,null,null,null,null,null,null,"2018-09-30T10:14:23.070"]
[55,400,22000,8000,500,27500,10000,650,35750,13000,800,44000,16000,500,27500,10000,500,27500,10000,null,null,null,null,null,null,null,null,null,"2018-10-01T10:14:23.070"]
[56,400,22400,8000,500,28000,10000,650,36400,13000,800,44800,16000,500,28000,10000,500,28000,10000,null,null,null,null,null,null,null,null,null,"2018-10-02T10:14:23.070"]
[57,400,22800,8000,500,28500,10000,650,37050,13000,800,45600,16000,500,28500,10000,500,28500,10000,null,null,null,null,null,null,null,null,null,"2018-10-03T10:14:23.070"]
[58,400,23200,8000,500,29000,10000,650,37700,13000,800,46400,16000,500,29000,10000,500,29000,10000,null,null,null,null,null,null,null,null,null,"2018-10-04T10:14:23.070"]
[59,400,23600,8000,500,29500,10000,650,38350,13000,800,47200,16000,500,29500,10000,500,29500,10000,null,null,null,null,null,null,null,null,null,"2018-10-05T10:14:23.070"]
[60,400,24000,8000,500,30000,10000,650,39000,13000,800,48000,16000,500,30000,10000,500,30000,10000,null,null,null,null,null,null,null,null,null,"2018-10-06T10:14:23.070"]
[61,400,24400,{"$f":"D61+D11","v":12000},500,30500,{"$f":"G61+5000","v":15000},650,39650,{"$f":"J61+5000","v":18000},800,48800,{"$f":"M61+M11","v":24000},500,30500,{"$f":"P61+P11","v":15000},500,30500,{"$f":"S61+S11","v":15000},null,null,null,null,null,null,null,null,null,"2018-10-07T10:14:23.070"]
[62,400,24800,{"$f":"D62","v":12000},500,31000,{"$f":"G62","v":15000},650,40300,{"$f":"J62","v":18000},800,49600,{"$f":"M62","v":24000},500,31000,{"$f":"P62","v":15000},500,31000,{"$f":"S62","v":15000},null,null,null,null,null,null,null,null,null,"2018-10-08T10:14:23.070"]
[63,400,25200,{"$f":"D63","v":12000},500,31500,{"$f":"G63","v":15000},650,40950,{"$f":"J63","v":18000},800,50400,{"$f":"M63","v":24000},500,31500,{"$f":"P63","v":15000},500,31500,{"$f":"S63","v":15000},null,null,null,null,null,null,null,null,null,"2018-10-09T10:14:23.070"]
[64,400,25600,12000,500,32000,15000,650,41600,18000,800,51200,24000,500,32000,15000,500,32000,15000,null,null,null,null,null,null,null,null,null,"2018-10-10T10:14:23.070"]
[65,400,26000,12000,500,{"$f":"E66*A66","v":32500},15000,650,42250,18000,800,52000,24000,500,{"$f":"N66*A66","v":32500},15000,500,{"$f":"Q66*A66","v":32500},15000,null,null,null,null,null,null,null,null,null,"2018-10-11T10:14:23.070"]
[66,400,{"$f":"B67*A67","v":26400},12000,500,33000,15000,650,42900,18000,800,52800,24000,500,33000,15000,500,33000,15000,null,null,null,null,null,null,null,null,null,{"$f":"AC66+1","v":"2018-10-12T10:14:23.070"}]
[67,{"$f":"B67","v":400},26800,12000,500,33500,15000,650,{"$f":"H68*A68","v":43550},18000,800,{"$f":"K68*A68","v":53600},24000,500,33500,15000,500,33500,15000,null,null,null,null,null,null,null,null,null,"2018-10-13T10:14:23.070"]
[68,400,27200,12000,500,34000,15000,650,44200,18000,800,54400,24000,500,34000,15000,500,34000,15000,null,null,null,null,null,null,null,null,null,"2018-10-14T10:14:23.070"]
[69,400,27600,12000,500,34500,15000,650,44850,18000,800,55200,24000,500,34500,15000,500,34500,15000,null,null,null,null,null,null,null,null,null,"2018-10-15T10:14:23.070"]
[70,400,28000,12000,500,35000,15000,650,45500,18000,800,56000,24000,500,35000,15000,500,35000,15000,null,null,null,null,null,null,null,null,null,"2018-10-16T10:14:23.070"]
[71,400,28400,12000,500,35500,15000,650,46150,18000,800,56800,24000,500,35500,15000,500,35500,15000,null,null,null,null,null,null,null,null,null,"2018-10-17T10:14:23.070"]
[72,400,28800,12000,500,36000,15000,650,46800,18000,800,57600,24000,500,36000,15000,500,36000,15000,null,null,null,null,null,null,null,null,null,"2018-10-18T10:14:23.070"]
[73,400,29200,12000,500,36500,15000,650,47450,18000,800,58400,24000,500,36500,15000,500,36500,15000,null,null,null,null,null,null,null,null,null,"2018-10-19T10:14:23.070"]
[74,400,29600,12000,500,37000,15000,650,48100,18000,800,59200,24000,500,37000,15000,500,37000,15000,null,null,null,null,null,null,null,null,null,"2018-10-20T10:14:23.070"]
[75,400,30000,12000,500,37500,15000,650,48750,18000,800,60000,24000,500,37500,15000,500,37500,15000,null,null,null,null,null,null,null,null,null,"2018-10-21T10:14:23.070"]
[76,400,30400,12000,500,38000,15000,650,49400,18000,800,60800,24000,500,38000,15000,500,38000,15000,null,null,null,null,null,null,null,null,null,"2018-10-22T10:14:23.070"]
[77,400,30800,12000,500,38500,15000,650,50050,18000,800,61600,24000,500,38500,15000,500,38500,15000,null,null,null,null,null,null,null,null,null,"2018-10-23T10:14:23.070"]
[78,400,31200,12000,500,39000,15000,650,50700,18000,800,62400,24000,500,39000,15000,500,39000,15000,null,null,null,null,null,null,null,null,null,"2018-10-24T10:14:23.070"]
[79,400,31600,{"$f":"D79","v":12000},500,39500,{"$f":"G79","v":15000},650,51350,{"$f":"J79","v":18000},800,63200,{"$f":"M79","v":24000},500,39500,{"$f":"P79","v":15000},500,39500,15000,null,null,null,null,null,null,null,null,null,"2018-10-25T10:14:23.070"]
[80,400,32000,12000,500,40000,15000,650,52000,18000,800,64000,24000,500,40000,15000,500,40000,15000,null,null,null,null,null,null,null,null,null,"2018-10-26T10:14:23.070"]
[81,400,32400,12000,500,40500,15000,650,52650,18000,800,64800,24000,500,40500,15000,500,40500,15000,null,null,null,null,null,null,null,null,null,"2018-10-27T10:14:23.070"]
[82,400,32800,12000,500,41000,15000,650,53300,18000,800,65600,24000,500,41000,15000,500,41000,15000,null,null,null,null,null,null,null,null,null,"2018-10-28T10:14:23.070"]
[83,400,33200,12000,500,41500,15000,650,53950,18000,800,66400,24000,500,41500,15000,500,41500,15000,null,null,null,null,null,null,null,null,null,"2018-10-29T10:14:23.070"]
[84,400,33600,12000,500,42000,15000,650,54600,18000,800,67200,24000,500,42000,15000,500,42000,15000,null,null,null,null,null,null,null,null,null,"2018-10-30T10:14:23.070"]
[85,400,34000,12000,500,42500,15000,650,55250,18000,800,68000,24000,500,42500,15000,500,42500,15000,null,null,null,null,null,null,null,null,null,"2018-10-31T10:14:23.070"]
[86,400,34400,12000,500,43000,15000,650,55900,18000,800,68800,24000,500,43000,15000,500,43000,15000,null,null,null,null,null,null,null,null,null,"2018-11-01T10:14:23.070"]
[87,400,34800,12000,500,43500,15000,650,56550,18000,800,69600,24000,500,43500,15000,500,43500,15000,null,null,null,null,null,null,null,null,null,"2018-11-02T10:14:23.070"]
[88,400,35200,12000,500,44000,15000,650,57200,18000,800,70400,24000,500,44000,15000,500,44000,15000,null,null,null,null,null,null,null,null,null,"2018-11-03T10:14:23.070"]
[89,400,35600,12000,500,44500,15000,650,57850,18000,800,71200,24000,500,44500,15000,500,44500,15000,null,null,null,null,null,null,null,null,null,"2018-11-04T10:14:23.070"]
[90,400,36000,12000,500,45000,15000,650,58500,18000,800,72000,24000,500,45000,15000,500,45000,15000,null,null,null,null,null,null,null,null,null,"2018-11-05T10:14:23.070"]
[91,400,36400,{"$f":"D91+D11","v":16000},500,45500,{"$f":"G91+5000","v":20000},650,59150,{"$f":"J91+5000","v":23000},800,72800,{"$f":"M91+M11","v":32000},500,45500,{"$f":"P91+P11","v":20000},500,45500,{"$f":"S91+S11","v":20000},null,null,null,null,null,null,null,null,null,"2018-11-06T10:14:23.070"]
[92,400,36800,{"$f":"D92","v":16000},500,46000,{"$f":"G92","v":20000},650,59800,{"$f":"J92","v":23000},800,73600,{"$f":"M92","v":32000},500,46000,{"$f":"P92","v":20000},500,46000,{"$f":"S92","v":20000},null,null,null,null,null,null,null,null,null,"2018-11-07T10:14:23.070"]
[93,400,37200,{"$f":"D93","v":16000},500,46500,{"$f":"G93","v":20000},650,60450,{"$f":"J93","v":23000},800,74400,{"$f":"M93","v":32000},500,46500,{"$f":"P93","v":20000},500,46500,{"$f":"S93","v":20000},null,null,null,null,null,null,null,null,null,"2018-11-08T10:14:23.070"]
[94,400,37600,16000,500,47000,20000,650,61100,23000,800,75200,32000,500,47000,20000,500,47000,20000,null,null,null,null,null,null,null,null,null,"2018-11-09T10:14:23.070"]
[95,400,38000,16000,500,47500,20000,650,61750,23000,800,76000,32000,500,47500,20000,500,47500,20000,null,null,null,null,null,null,null,null,null,"2018-11-10T10:14:23.070"]
[96,400,38400,16000,500,48000,20000,650,62400,23000,800,76800,32000,500,48000,20000,500,48000,20000,null,null,null,null,null,null,null,null,null,"2018-11-11T10:14:23.070"]
[97,400,38800,16000,500,48500,20000,650,63050,23000,800,77600,32000,500,48500,20000,500,48500,20000,null,null,null,null,null,null,null,null,null,"2018-11-12T10:14:23.070"]
[98,400,39200,16000,500,49000,20000,650,63700,23000,800,78400,32000,500,49000,20000,500,49000,20000,null,null,null,null,null,null,null,null,null,"2018-11-13T10:14:23.070"]
[99,400,39600,16000,500,49500,20000,650,64350,23000,800,79200,32000,500,49500,20000,500,49500,20000,null,null,null,null,null,null,null,null,null,"2018-11-14T10:14:23.070"]
[100,400,40000,16000,500,50000,20000,650,65000,23000,800,80000,32000,500,50000,20000,500,50000,20000,null,null,null,null,null,null,null,null,null,"2018-11-15T10:14:23.070"]
[101,400,40400,16000,500,50500,20000,650,65650,23000,800,80800,32000,500,50500,20000,500,50500,20000,null,null,null,null,null,null,null,null,null,"2018-11-16T10:14:23.070"]
[102,400,40800,16000,500,51000,20000,650,66300,23000,800,81600,32000,500,51000,20000,500,51000,20000,null,null,null,null,null,null,null,null,null,"2018-11-17T10:14:23.070"]
[103,400,41200,16000,500,51500,20000,650,66950,23000,800,82400,32000,500,51500,20000,500,51500,20000,null,null,null,null,null,null,null,null,null,"2018-11-18T10:14:23.070"]
[104,400,41600,16000,500,52000,20000,650,67600,23000,800,83200,32000,500,52000,20000,500,52000,20000,null,null,null,null,null,null,null,null,null,"2018-11-19T10:14:23.070"]
[105,400,42000,16000,500,52500,20000,650,68250,23000,800,84000,32000,500,52500,20000,500,52500,20000,null,null,null,null,null,null,null,null,null,"2018-11-20T10:14:23.070"]
[106,400,42400,16000,500,53000,20000,650,68900,23000,800,84800,32000,500,53000,20000,500,53000,20000,null,null,null,null,null,null,null,null,null,"2018-11-21T10:14:23.070"]
[107,400,42800,16000,500,53500,20000,650,69550,23000,800,85600,32000,500,53500,20000,500,53500,20000,null,null,null,null,null,null,null,null,null,"2018-11-22T10:14:23.070"]
[108,400,43200,16000,500,54000,20000,650,70200,23000,800,86400,32000,500,54000,20000,500,54000,20000,null,null,null,null,null,null,null,null,null,"2018-11-23T10:14:23.070"]
[109,400,43600,{"$f":"D109","v":16000},500,54500,{"$f":"G109","v":20000},650,70850,{"$f":"J109","v":23000},800,87200,{"$f":"M109","v":32000},500,54500,{"$f":"P109","v":20000},500,54500,20000,null,null,null,null,null,null,null,null,null,"2018-11-24T10:14:23.070"]
[110,400,44000,16000,500,55000,20000,650,71500,23000,800,88000,32000,500,55000,20000,500,55000,20000,null,null,null,null,null,null,null,null,null,"2018-11-25T10:14:23.070"]
[111,400,44400,16000,500,55500,20000,650,72150,23000,800,88800,32000,500,55500,20000,500,55500,20000,null,null,null,null,null,null,null,null,null,"2018-11-26T10:14:23.070"]
[112,400,44800,16000,500,56000,20000,650,72800,23000,800,89600,32000,500,56000,20000,500,56000,20000,null,null,null,null,null,null,null,null,null,"2018-11-27T10:14:23.070"]
[113,400,45200,16000,500,56500,20000,650,73450,23000,800,90400,32000,500,56500,20000,500,56500,20000,null,null,null,null,null,null,null,null,null,"2018-11-28T10:14:23.070"]
[114,400,45600,16000,500,57000,20000,650,74100,23000,800,91200,32000,500,57000,20000,500,57000,20000,null,null,null,null,null,null,null,null,null,"2018-11-29T10:14:23.070"]
[115,400,46000,16000,500,57500,20000,650,74750,23000,800,92000,32000,500,57500,20000,500,57500,20000,null,null,null,null,null,null,null,null,null,"2018-11-30T10:14:23.070"]
[116,400,46400,16000,500,58000,20000,650,75400,23000,800,92800,32000,500,58000,20000,500,58000,20000,null,null,null,null,null,null,null,null,null,"2018-12-01T10:14:23.070"]
[117,400,46800,16000,500,58500,20000,650,76050,23000,800,93600,32000,500,58500,20000,500,58500,20000,null,null,null,null,null,null,null,null,null,"2018-12-02T10:14:23.070"]
[118,400,47200,16000,500,59000,20000,650,76700,23000,800,94400,32000,500,59000,20000,500,59000,20000,null,null,null,null,null,null,null,null,null,"2018-12-03T10:14:23.070"]
[119,400,47600,16000,500,59500,20000,650,77350,23000,800,95200,32000,500,59500,20000,500,59500,20000,null,null,null,null,null,null,null,null,null,"2018-12-04T10:14:23.070"]
[120,400,48000,16000,500,60000,20000,650,78000,23000,800,96000,32000,500,60000,20000,500,60000,20000,null,null,null,null,null,null,null,null,null,"2018-12-05T10:14:23.070"]
[121,400,48400,{"$f":"D121+D11","v":20000},500,60500,{"$f":"G121+5000","v":25000},650,78650,{"$f":"J121+5000","v":28000},800,96800,{"$f":"M121+M11","v":40000},500,60500,{"$f":"P121+P11","v":25000},500,60500,{"$f":"S121+S11","v":25000},null,null,null,null,null,null,null,null,null,"2018-12-06T10:14:23.070"]
[122,400,48800,{"$f":"D122","v":20000},500,61000,{"$f":"G122","v":25000},650,79300,{"$f":"J122","v":28000},800,97600,{"$f":"M122","v":40000},500,61000,{"$f":"P122","v":25000},500,61000,{"$f":"S122","v":25000},null,null,null,null,null,null,null,null,null,"2018-12-07T10:14:23.070"]
[123,400,49200,{"$f":"D123","v":20000},500,61500,{"$f":"G123","v":25000},650,79950,{"$f":"J123","v":28000},800,98400,{"$f":"M123","v":40000},500,61500,{"$f":"P123","v":25000},500,61500,{"$f":"S123","v":25000},null,null,null,null,null,null,null,null,null,"2018-12-08T10:14:23.070"]
[124,400,49600,20000,500,62000,25000,650,80600,28000,800,99200,40000,500,62000,25000,500,62000,25000,null,null,null,null,null,null,null,null,null,"2018-12-09T10:14:23.070"]
[125,400,50000,20000,500,62500,25000,650,81250,28000,800,100000,40000,500,62500,25000,500,62500,25000,null,null,null,null,null,null,null,null,null,"2018-12-10T10:14:23.070"]
[126,400,50400,20000,500,63000,25000,650,81900,28000,800,100800,40000,500,63000,25000,500,63000,25000,null,null,null,null,null,null,null,null,null,"2018-12-11T10:14:23.070"]
[127,400,50800,20000,500,63500,25000,650,82550,28000,800,101600,40000,500,63500,25000,500,63500,25000,null,null,null,null,null,null,null,null,null,"2018-12-12T10:14:23.070"]
[128,400,51200,20000,500,64000,25000,650,83200,28000,800,102400,40000,500,64000,25000,500,64000,25000,null,null,null,null,null,null,null,null,null,"2018-12-13T10:14:23.070"]
[129,400,51600,20000,500,{"$f":"E130*A130","v":64500},25000,650,83850,28000,800,103200,40000,500,{"$f":"N130*A130","v":64500},25000,500,{"$f":"Q130*A130","v":64500},25000,null,null,null,null,null,null,null,null,null,"2018-12-14T10:14:23.070"]
[130,400,{"$f":"B131*A131","v":52000},20000,500,65000,25000,650,84500,28000,800,104000,40000,500,65000,25000,500,65000,25000,null,null,null,null,null,null,null,null,null,{"$f":"AC130+1","v":"2018-12-15T10:14:23.070"}]
[131,{"$f":"B131","v":400},52400,20000,500,65500,25000,650,{"$f":"H132*A132","v":85150},28000,800,{"$f":"K132*A132","v":104800},40000,500,65500,25000,500,65500,25000,null,null,null,null,null,null,null,null,null,"2018-12-16T10:14:23.070"]
[132,400,52800,20000,500,66000,25000,650,85800,28000,800,105600,40000,500,66000,25000,500,66000,25000,null,null,null,null,null,null,null,null,null,"2018-12-17T10:14:23.070"]
[133,400,53200,20000,500,66500,25000,650,86450,28000,800,106400,40000,500,66500,25000,500,66500,25000,null,null,null,null,null,null,null,null,null,"2018-12-18T10:14:23.070"]
[134,400,53600,20000,500,67000,25000,650,87100,28000,800,107200,40000,500,67000,25000,500,67000,25000,null,null,null,null,null,null,null,null,null,"2018-12-19T10:14:23.070"]
[135,400,54000,20000,500,67500,25000,650,87750,28000,800,108000,40000,500,67500,25000,500,67500,25000,null,null,null,null,null,null,null,null,null,"2018-12-20T10:14:23.070"]
[136,400,54400,20000,500,68000,25000,650,88400,28000,800,108800,40000,500,68000,25000,500,68000,25000,null,null,null,null,null,null,null,null,null,"2018-12-21T10:14:23.070"]
[137,400,54800,20000,500,68500,25000,650,89050,28000,800,109600,40000,500,68500,25000,500,68500,25000,null,null,null,null,null,null,null,null,null,"2018-12-22T10:14:23.070"]
[138,400,55200,20000,500,69000,25000,650,89700,28000,800,110400,40000,500,69000,25000,500,69000,25000,null,null,null,null,null,null,null,null,null,"2018-12-23T10:14:23.070"]
[139,400,55600,{"$f":"D139","v":20000},500,69500,{"$f":"G139","v":25000},650,90350,{"$f":"J139","v":28000},800,111200,{"$f":"M139","v":40000},500,69500,{"$f":"P139","v":25000},500,69500,25000,null,null,null,null,null,null,null,null,null,"2018-12-24T10:14:23.070"]
[140,400,56000,20000,500,70000,25000,650,91000,28000,800,112000,40000,500,70000,25000,500,70000,25000,null,null,null,null,null,null,null,null,null,"2018-12-25T10:14:23.070"]
[141,400,56400,20000,500,70500,25000,650,91650,28000,800,112800,40000,500,70500,25000,500,70500,25000,null,null,null,null,null,null,null,null,null,"2018-12-26T10:14:23.070"]
[142,400,56800,20000,500,71000,25000,650,92300,28000,800,113600,40000,500,71000,25000,500,71000,25000,null,null,null,null,null,null,null,null,null,"2018-12-27T10:14:23.070"]
[143,400,57200,20000,500,71500,25000,650,92950,28000,800,114400,40000,500,71500,25000,500,71500,25000,null,null,null,null,null,null,null,null,null,"2018-12-28T10:14:23.070"]
[144,400,57600,20000,500,72000,25000,650,93600,28000,800,115200,40000,500,72000,25000,500,72000,25000,null,null,null,null,null,null,null,null,null,"2018-12-29T10:14:23.070"]
[145,400,58000,20000,500,72500,25000,650,94250,28000,800,116000,40000,500,72500,25000,500,72500,25000,null,null,null,null,null,null,null,null,null,"2018-12-30T10:14:23.070"]
[146,400,58400,20000,500,73000,25000,650,94900,28000,800,116800,40000,500,73000,25000,500,73000,25000,null,null,null,null,null,null,null,null,null,"2018-12-31T10:14:23.070"]
[147,400,58800,20000,500,73500,25000,650,95550,28000,800,117600,40000,500,73500,25000,500,73500,25000,null,null,null,null,null,null,null,null,null,"2019-01-01T10:14:23.070"]
[148,400,59200,20000,500,74000,25000,650,96200,28000,800,118400,40000,500,74000,25000,500,74000,25000,null,null,null,null,null,null,null,null,null,"2019-01-02T10:14:23.070"]
[149,400,59600,20000,500,74500,25000,650,96850,28000,800,119200,40000,500,74500,25000,500,74500,25000,null,null,null,null,null,null,null,null,null,"2019-01-03T10:14:23.070"]
[150,400,60000,20000,500,75000,25000,650,97500,28000,800,120000,40000,500,75000,25000,500,75000,25000,null,null,null,null,null,null,null,null,null,"2019-01-04T10:14:23.070"]
[151,400,60400,{"$f":"D151+D11","v":24000},500,75500,{"$f":"G151+5000","v":30000},650,98150,{"$f":"J151+5000","v":33000},800,120800,{"$f":"M151+M11","v":48000},500,75500,{"$f":"P151+P11","v":30000},500,75500,{"$f":"S151+S11","v":30000},null,null,null,null,null,null,null,null,null,"2019-01-05T10:14:23.070"]
[152,400,60800,{"$f":"D152","v":24000},500,76000,{"$f":"G152","v":30000},650,98800,{"$f":"J152","v":33000},800,121600,{"$f":"M152","v":48000},500,76000,{"$f":"P152","v":30000},500,76000,{"$f":"S152","v":30000},null,null,null,null,null,null,null,null,null,"2019-01-06T10:14:23.070"]
[153,400,61200,{"$f":"D153","v":24000},500,76500,{"$f":"G153","v":30000},650,99450,{"$f":"J153","v":33000},800,122400,{"$f":"M153","v":48000},500,76500,{"$f":"P153","v":30000},500,76500,{"$f":"S153","v":30000},null,null,null,null,null,null,null,null,null,"2019-01-07T10:14:23.070"]
[154,400,61600,24000,500,77000,30000,650,100100,33000,800,123200,48000,500,77000,30000,500,77000,30000,null,null,null,null,null,null,null,null,null,"2019-01-08T10:14:23.070"]
[155,400,62000,24000,500,77500,30000,650,100750,33000,800,124000,48000,500,77500,30000,500,77500,30000,null,null,null,null,null,null,null,null,null,"2019-01-09T10:14:23.070"]
[156,400,62400,24000,500,78000,30000,650,101400,33000,800,124800,48000,500,78000,30000,500,78000,30000,null,null,null,null,null,null,null,null,null,"2019-01-10T10:14:23.070"]
[157,400,62800,24000,500,78500,30000,650,102050,33000,800,125600,48000,500,78500,30000,500,78500,30000,null,null,null,null,null,null,null,null,null,"2019-01-11T10:14:23.070"]
[158,400,63200,24000,500,79000,30000,650,102700,33000,800,126400,48000,500,79000,30000,500,79000,30000,null,null,null,null,null,null,null,null,null,"2019-01-12T10:14:23.070"]
[159,400,63600,24000,500,79500,30000,650,103350,33000,800,127200,48000,500,79500,30000,500,79500,30000,null,null,null,null,null,null,null,null,null,"2019-01-13T10:14:23.070"]
[160,400,64000,24000,500,80000,30000,650,104000,33000,800,128000,48000,500,80000,30000,500,80000,30000,null,null,null,null,null,null,null,null,null,"2019-01-14T10:14:23.070"]
[161,400,64400,24000,500,80500,30000,650,104650,33000,800,128800,48000,500,80500,30000,500,80500,30000,null,null,null,null,null,null,null,null,null,"2019-01-15T10:14:23.070"]
[162,400,64800,24000,500,81000,30000,650,105300,33000,800,129600,48000,500,81000,30000,500,81000,30000,null,null,null,null,null,null,null,null,null,"2019-01-16T10:14:23.070"]
[163,400,65200,24000,500,81500,30000,650,105950,33000,800,130400,48000,500,81500,30000,500,81500,30000,null,null,null,null,null,null,null,null,null,"2019-01-17T10:14:23.070"]
[164,400,65600,24000,500,82000,30000,650,106600,33000,800,131200,48000,500,82000,30000,500,82000,30000,null,null,null,null,null,null,null,null,null,"2019-01-18T10:14:23.070"]
[165,400,66000,24000,500,82500,30000,650,107250,33000,800,132000,48000,500,82500,30000,500,82500,30000,null,null,null,null,null,null,null,null,null,"2019-01-19T10:14:23.070"]
[166,400,66400,24000,500,83000,30000,650,107900,33000,800,132800,48000,500,83000,30000,500,83000,30000,null,null,null,null,null,null,null,null,null,"2019-01-20T10:14:23.070"]
[167,400,66800,24000,500,83500,30000,650,108550,33000,800,133600,48000,500,83500,30000,500,83500,30000,null,null,null,null,null,null,null,null,null,"2019-01-21T10:14:23.070"]
[168,400,67200,24000,500,84000,30000,650,109200,33000,800,134400,48000,500,84000,30000,500,84000,30000,null,null,null,null,null,null,null,null,null,"2019-01-22T10:14:23.070"]
[169,400,67600,{"$f":"D169","v":24000},500,84500,{"$f":"G169","v":30000},650,109850,{"$f":"J169","v":33000},800,135200,{"$f":"M169","v":48000},500,84500,{"$f":"P169","v":30000},500,84500,30000,null,null,null,null,null,null,null,null,null,"2019-01-23T10:14:23.070"]
[170,400,68000,24000,500,85000,30000,650,110500,33000,800,136000,48000,500,85000,30000,500,85000,30000,null,null,null,null,null,null,null,null,null,"2019-01-24T10:14:23.070"]
[171,400,68400,24000,500,85500,30000,650,111150,33000,800,136800,48000,500,85500,30000,500,85500,30000,null,null,null,null,null,null,null,null,null,"2019-01-25T10:14:23.070"]
[172,400,68800,24000,500,86000,30000,650,111800,33000,800,137600,48000,500,86000,30000,500,86000,30000,null,null,null,null,null,null,null,null,null,"2019-01-26T10:14:23.070"]
[173,400,69200,24000,500,86500,30000,650,112450,33000,800,138400,48000,500,86500,30000,500,86500,30000,null,null,null,null,null,null,null,null,null,"2019-01-27T10:14:23.070"]
[174,400,69600,24000,500,87000,30000,650,113100,33000,800,139200,48000,500,87000,30000,500,87000,30000,null,null,null,null,null,null,null,null,null,"2019-01-28T10:14:23.070"]
[175,400,70000,24000,500,87500,30000,650,113750,33000,800,140000,48000,500,87500,30000,500,87500,30000,null,null,null,null,null,null,null,null,null,"2019-01-29T10:14:23.070"]
[176,400,70400,24000,500,88000,30000,650,114400,33000,800,140800,48000,500,88000,30000,500,88000,30000,null,null,null,null,null,null,null,null,null,"2019-01-30T10:14:23.070"]
[177,400,70800,24000,500,88500,30000,650,115050,33000,800,141600,48000,500,88500,30000,500,88500,30000,null,null,null,null,null,null,null,null,null,"2019-01-31T10:14:23.070"]
[178,400,71200,24000,500,89000,30000,650,115700,33000,800,142400,48000,500,89000,30000,500,89000,30000,null,null,null,null,null,null,null,null,null,"2019-02-01T10:14:23.070"]
[179,400,71600,24000,500,89500,30000,650,116350,33000,800,143200,48000,500,89500,30000,500,89500,30000,null,null,null,null,null,null,null,null,null,"2019-02-02T10:14:23.070"]
[180,400,72000,24000,500,90000,30000,650,117000,33000,800,144000,48000,500,90000,30000,500,90000,30000,null,null,null,null,null,null,null,null,null,"2019-02-03T10:14:23.070"]
[181,400,72400,{"$f":"D181+D11","v":28000},500,90500,{"$f":"G181+5000","v":35000},650,117650,{"$f":"J181+5000","v":38000},800,144800,{"$f":"M181+M11","v":56000},500,90500,{"$f":"P181+P11","v":35000},500,90500,{"$f":"S181+S11","v":35000},null,null,null,null,null,null,null,null,null,"2019-02-04T10:14:23.070"]
[182,400,72800,{"$f":"D182","v":28000},500,91000,{"$f":"G182","v":35000},650,118300,{"$f":"J182","v":38000},800,145600,{"$f":"M182","v":56000},500,91000,{"$f":"P182","v":35000},500,91000,{"$f":"S182","v":35000},null,null,null,null,null,null,null,null,null,"2019-02-05T10:14:23.070"]
[183,400,73200,{"$f":"D183","v":28000},500,91500,{"$f":"G183","v":35000},650,118950,{"$f":"J183","v":38000},800,146400,{"$f":"M183","v":56000},500,91500,{"$f":"P183","v":35000},500,91500,{"$f":"S183","v":35000},null,null,null,null,null,null,null,null,null,"2019-02-06T10:14:23.070"]
[184,400,73600,28000,500,92000,35000,650,119600,38000,800,147200,56000,500,92000,35000,500,92000,35000,null,null,null,null,null,null,null,null,null,"2019-02-07T10:14:23.070"]
[185,400,74000,28000,500,92500,35000,650,120250,38000,800,148000,56000,500,92500,35000,500,92500,35000,null,null,null,null,null,null,null,null,null,"2019-02-08T10:14:23.070"]
[186,400,74400,28000,500,93000,35000,650,120900,38000,800,148800,56000,500,93000,35000,500,93000,35000,null,null,null,null,null,null,null,null,null,"2019-02-09T10:14:23.070"]
[187,400,74800,28000,500,93500,35000,650,121550,38000,800,149600,56000,500,93500,35000,500,93500,35000,null,null,null,null,null,null,null,null,null,"2019-02-10T10:14:23.070"]
[188,400,75200,28000,500,94000,35000,650,122200,38000,800,150400,56000,500,94000,35000,500,94000,35000,null,null,null,null,null,null,null,null,null,"2019-02-11T10:14:23.070"]
[189,400,75600,28000,500,94500,35000,650,122850,38000,800,151200,56000,500,94500,35000,500,94500,35000,null,null,null,null,null,null,null,null,null,"2019-02-12T10:14:23.070"]
[190,400,76000,28000,500,95000,35000,650,123500,38000,800,152000,56000,500,95000,35000,500,95000,35000,null,null,null,null,null,null,null,null,null,"2019-02-13T10:14:23.070"]
[191,400,76400,28000,500,95500,35000,650,124150,38000,800,152800,56000,500,95500,35000,500,95500,35000,null,null,null,null,null,null,null,null,null,"2019-02-14T10:14:23.070"]
[192,400,76800,28000,500,96000,35000,650,124800,38000,800,153600,56000,500,96000,35000,500,96000,35000,null,null,null,null,null,null,null,null,null,"2019-02-15T10:14:23.070"]
[193,400,77200,28000,500,{"$f":"E194*A194","v":96500},35000,650,125450,38000,800,154400,56000,500,{"$f":"N194*A194","v":96500},35000,500,{"$f":"Q194*A194","v":96500},35000,null,null,null,null,null,null,null,null,null,"2019-02-16T10:14:23.070"]
[194,400,{"$f":"B195*A195","v":77600},28000,500,97000,35000,650,126100,38000,800,155200,56000,500,97000,35000,500,97000,35000,null,null,null,null,null,null,null,null,null,{"$f":"AC194+1","v":"2019-02-17T10:14:23.070"}]
[195,{"$f":"B195","v":400},78000,28000,500,97500,35000,650,{"$f":"H196*A196","v":126750},38000,800,{"$f":"K196*A196","v":156000},56000,500,97500,35000,500,97500,35000,null,null,null,null,null,null,null,null,null,"2019-02-18T10:14:23.070"]
[196,400,78400,28000,500,98000,35000,650,127400,38000,800,156800,56000,500,98000,35000,500,98000,35000,null,null,null,null,null,null,null,null,null,"2019-02-19T10:14:23.070"]
[197,400,78800,28000,500,98500,35000,650,128050,38000,800,157600,56000,500,98500,35000,500,98500,35000,null,null,null,null,null,null,null,null,null,"2019-02-20T10:14:23.070"]
[198,400,79200,28000,500,99000,35000,650,128700,38000,800,158400,56000,500,99000,35000,500,99000,35000,null,null,null,null,null,null,null,null,null,"2019-02-21T10:14:23.070"]
[199,400,79600,{"$f":"D199","v":28000},500,99500,{"$f":"G199","v":35000},650,129350,{"$f":"J199","v":38000},800,159200,{"$f":"M199","v":56000},500,99500,{"$f":"P199","v":35000},500,99500,35000,null,null,null,null,null,null,null,null,null,"2019-02-22T10:14:23.070"]
[200,400,80000,28000,500,100000,35000,650,130000,38000,800,160000,56000,500,100000,35000,500,100000,35000,null,null,null,null,null,null,null,null,null,"2019-02-23T10:14:23.070"]
[201,400,80400,28000,500,100500,35000,650,130650,38000,800,160800,56000,500,100500,35000,500,100500,35000,null,null,null,null,null,null,null,null,null,"2019-02-24T10:14:23.070"]
[202,400,80800,28000,500,101000,35000,650,131300,38000,800,161600,56000,500,101000,35000,500,101000,35000,null,null,null,null,null,null,null,null,null,"2019-02-25T10:14:23.070"]
[203,400,81200,28000,500,101500,35000,650,131950,38000,800,162400,56000,500,101500,35000,500,101500,35000,null,null,null,null,null,null,null,null,null,"2019-02-26T10:14:23.070"]
[204,400,81600,28000,500,102000,35000,650,132600,38000,800,163200,56000,500,102000,35000,500,102000,35000,null,null,null,null,null,null,null,null,null,"2019-02-27T10:14:23.070"]
[205,400,82000,28000,500,102500,35000,650,133250,38000,800,164000,56000,500,102500,35000,500,102500,35000,null,null,null,null,null,null,null,null,null,"2019-02-28T10:14:23.070"]
[206,400,82400,28000,500,103000,35000,650,133900,38000,800,164800,56000,500,103000,35000,500,103000,35000,null,null,null,null,null,null,null,null,null,"2019-03-01T10:14:23.070"]
[207,400,82800,28000,500,103500,35000,650,134550,38000,800,165600,56000,500,103500,35000,500,103500,35000,null,null,null,null,null,null,null,null,null,"2019-03-02T10:14:23.070"]
[208,400,83200,28000,500,104000,35000,650,135200,38000,800,166400,56000,500,104000,35000,500,104000,35000,null,null,null,null,null,null,null,null,null,"2019-03-03T10:14:23.070"]
[209,400,83600,28000,500,104500,35000,650,135850,38000,800,167200,56000,500,104500,35000,500,104500,35000,null,null,null,null,null,null,null,null,null,"2019-03-04T10:14:23.070"]
[210,400,84000,28000,500,105000,35000,650,136500,38000,800,168000,56000,500,105000,35000,500,105000,35000,null,null,null,null,null,null,null,null,null,"2019-03-05T10:14:23.070"]
[211,400,84400,{"$f":"D211+D11","v":32000},500,105500,{"$f":"G211+5000","v":40000},650,137150,{"$f":"J211+5000","v":43000},800,168800,{"$f":"M211+M11","v":64000},500,105500,{"$f":"P211+P11","v":40000},500,105500,{"$f":"S211+S11","v":40000},null,null,null,null,null,null,null,null,null,"2019-03-06T10:14:23.070"]
[212,400,84800,{"$f":"D212","v":32000},500,106000,{"$f":"G212","v":40000},650,137800,{"$f":"J212","v":43000},800,169600,{"$f":"M212","v":64000},500,106000,{"$f":"P212","v":40000},500,106000,{"$f":"S212","v":40000},null,null,null,null,null,null,null,null,null,"2019-03-07T10:14:23.070"]
[213,400,85200,{"$f":"D213","v":32000},500,106500,{"$f":"G213","v":40000},650,138450,{"$f":"J213","v":43000},800,170400,{"$f":"M213","v":64000},500,106500,{"$f":"P213","v":40000},500,106500,{"$f":"S213","v":40000},null,null,null,null,null,null,null,null,null,"2019-03-08T10:14:23.070"]
[214,400,85600,32000,500,107000,40000,650,139100,43000,800,171200,64000,500,107000,40000,500,107000,40000,null,null,null,null,null,null,null,null,null,"2019-03-09T10:14:23.070"]
[215,400,86000,32000,500,107500,40000,650,139750,43000,800,172000,64000,500,107500,40000,500,107500,40000,null,null,null,null,null,null,null,null,null,"2019-03-10T10:14:23.070"]
[216,400,86400,32000,500,108000,40000,650,140400,43000,800,172800,64000,500,108000,40000,500,108000,40000,null,null,null,null,null,null,null,null,null,"2019-03-11T10:14:23.070"]
[217,400,86800,32000,500,108500,40000,650,141050,43000,800,173600,64000,500,108500,40000,500,108500,40000,null,null,null,null,null,null,null,null,null,"2019-03-12T10:14:23.070"]
[218,400,87200,32000,500,109000,40000,650,141700,43000,800,174400,64000,500,109000,40000,500,109000,40000,null,null,null,null,null,null,null,null,null,"2019-03-13T10:14:23.070"]
[219,400,87600,32000,500,109500,40000,650,142350,43000,800,175200,64000,500,109500,40000,500,109500,40000,null,null,null,null,null,null,null,null,null,"2019-03-14T10:14:23.070"]
[220,400,88000,32000,500,110000,40000,650,143000,43000,800,176000,64000,500,110000,40000,500,110000,40000,null,null,null,null,null,null,null,null,null,"2019-03-15T10:14:23.070"]
[221,400,88400,32000,500,110500,40000,650,143650,43000,800,176800,64000,500,110500,40000,500,110500,40000,null,null,null,null,null,null,null,null,null,"2019-03-16T10:14:23.070"]
[222,400,88800,32000,500,111000,40000,650,144300,43000,800,177600,64000,500,111000,40000,500,111000,40000,null,null,null,null,null,null,null,null,null,"2019-03-17T10:14:23.070"]
[223,400,89200,32000,500,111500,40000,650,144950,43000,800,178400,64000,500,111500,40000,500,111500,40000,null,null,null,null,null,null,null,null,null,"2019-03-18T10:14:23.070"]
[224,400,89600,32000,500,112000,40000,650,145600,43000,800,179200,64000,500,112000,40000,500,112000,40000,null,null,null,null,null,null,null,null,null,"2019-03-19T10:14:23.070"]
[225,400,90000,32000,500,112500,40000,650,146250,43000,800,180000,64000,500,112500,40000,500,112500,40000,null,null,null,null,null,null,null,null,null,"2019-03-20T10:14:23.070"]
[226,400,90400,32000,500,113000,40000,650,146900,43000,800,180800,64000,500,113000,40000,500,113000,40000,null,null,null,null,null,null,null,null,null,"2019-03-21T10:14:23.070"]
[227,400,90800,32000,500,113500,40000,650,147550,43000,800,181600,64000,500,113500,40000,500,113500,40000,null,null,null,null,null,null,null,null,null,"2019-03-22T10:14:23.070"]
[228,400,91200,32000,500,114000,40000,650,148200,43000,800,182400,64000,500,114000,40000,500,114000,40000,null,null,null,null,null,null,null,null,null,"2019-03-23T10:14:23.070"]
[229,400,91600,{"$f":"D229","v":32000},500,114500,{"$f":"G229","v":40000},650,148850,{"$f":"J229","v":43000},800,183200,{"$f":"M229","v":64000},500,114500,{"$f":"P229","v":40000},500,114500,40000,null,null,null,null,null,null,null,null,null,"2019-03-24T10:14:23.070"]
[230,400,92000,32000,500,115000,40000,650,149500,43000,800,184000,64000,500,115000,40000,500,115000,40000,null,null,null,null,null,null,null,null,null,"2019-03-25T10:14:23.070"]
[231,400,92400,32000,500,115500,40000,650,150150,43000,800,184800,64000,500,115500,40000,500,115500,40000,null,null,null,null,null,null,null,null,null,"2019-03-26T10:14:23.070"]
[232,400,92800,32000,500,116000,40000,650,150800,43000,800,185600,64000,500,116000,40000,500,116000,40000,null,null,null,null,null,null,null,null,null,"2019-03-27T10:14:23.070"]
[233,400,93200,32000,500,116500,40000,650,151450,43000,800,186400,64000,500,116500,40000,500,116500,40000,null,null,null,null,null,null,null,null,null,"2019-03-28T10:14:23.070"]
[234,400,93600,32000,500,117000,40000,650,152100,43000,800,187200,64000,500,117000,40000,500,117000,40000,null,null,null,null,null,null,null,null,null,"2019-03-29T10:14:23.070"]
[235,400,94000,32000,500,117500,40000,650,152750,43000,800,188000,64000,500,117500,40000,500,117500,40000,null,null,null,null,null,null,null,null,null,"2019-03-30T10:14:23.070"]
[236,400,94400,32000,500,118000,40000,650,153400,43000,800,188800,64000,500,118000,40000,500,118000,40000,null,null,null,null,null,null,null,null,null,"2019-03-31T10:14:23.070"]
[237,400,94800,32000,500,118500,40000,650,154050,43000,800,189600,64000,500,118500,40000,500,118500,40000,null,null,null,null,null,null,null,null,null,"2019-04-01T10:14:23.070"]
[238,400,95200,32000,500,119000,40000,650,154700,43000,800,190400,64000,500,119000,40000,500,119000,40000,null,null,null,null,null,null,null,null,null,"2019-04-02T10:14:23.070"]
[239,400,95600,32000,500,119500,40000,650,155350,43000,800,191200,64000,500,119500,40000,500,119500,40000,null,null,null,null,null,null,null,null,null,"2019-04-03T10:14:23.070"]
[240,400,96000,32000,500,120000,40000,650,156000,43000,800,192000,64000,500,120000,40000,500,120000,40000,null,null,null,null,null,null,null,null,null,"2019-04-04T10:14:23.070"]
[241,400,96400,{"$f":"D241+D11","v":36000},500,120500,{"$f":"G241+5000","v":45000},650,156650,{"$f":"J241+5000","v":48000},800,192800,{"$f":"M241+M11","v":72000},500,120500,{"$f":"P241+P11","v":45000},500,120500,{"$f":"S241+S11","v":45000},null,null,null,null,null,null,null,null,null,"2019-04-05T10:14:23.070"]
[242,400,96800,{"$f":"D242","v":36000},500,121000,{"$f":"G242","v":45000},650,157300,{"$f":"J242","v":48000},800,193600,{"$f":"M242","v":72000},500,121000,{"$f":"P242","v":45000},500,121000,{"$f":"S242","v":45000},null,null,null,null,null,null,null,null,null,"2019-04-06T10:14:23.070"]
[243,400,97200,{"$f":"D243","v":36000},500,121500,{"$f":"G243","v":45000},650,157950,{"$f":"J243","v":48000},800,194400,{"$f":"M243","v":72000},500,121500,{"$f":"P243","v":45000},500,121500,{"$f":"S243","v":45000},null,null,null,null,null,null,null,null,null,"2019-04-07T10:14:23.070"]
[244,400,97600,36000,500,122000,45000,650,158600,48000,800,195200,72000,500,122000,45000,500,122000,45000,null,null,null,null,null,null,null,null,null,"2019-04-08T10:14:23.070"]
[245,400,98000,36000,500,122500,45000,650,159250,48000,800,196000,72000,500,122500,45000,500,122500,45000,null,null,null,null,null,null,null,null,null,"2019-04-09T10:14:23.070"]
[246,400,98400,36000,500,123000,45000,650,159900,48000,800,196800,72000,500,123000,45000,500,123000,45000,null,null,null,null,null,null,null,null,null,"2019-04-10T10:14:23.070"]
[247,400,98800,36000,500,123500,45000,650,160550,48000,800,197600,72000,500,123500,45000,500,123500,45000,null,null,null,null,null,null,null,null,null,"2019-04-11T10:14:23.070"]
[248,400,99200,36000,500,124000,45000,650,161200,48000,800,198400,72000,500,124000,45000,500,124000,45000,null,null,null,null,null,null,null,null,null,"2019-04-12T10:14:23.070"]
[249,400,99600,36000,500,124500,45000,650,161850,48000,800,199200,72000,500,124500,45000,500,124500,45000,null,null,null,null,null,null,null,null,null,"2019-04-13T10:14:23.070"]
[250,400,100000,36000,500,125000,45000,650,162500,48000,800,200000,72000,500,125000,45000,500,125000,45000,null,null,null,null,null,null,null,null,null,"2019-04-14T10:14:23.070"]
[251,400,100400,36000,500,125500,45000,650,163150,48000,800,200800,72000,500,125500,45000,500,125500,45000,null,null,null,null,null,null,null,null,null,"2019-04-15T10:14:23.070"]
[252,400,100800,36000,500,126000,45000,650,163800,48000,800,201600,72000,500,126000,45000,500,126000,45000,null,null,null,null,null,null,null,null,null,"2019-04-16T10:14:23.070"]
[253,400,101200,36000,500,126500,45000,650,164450,48000,800,202400,72000,500,126500,45000,500,126500,45000,null,null,null,null,null,null,null,null,null,"2019-04-17T10:14:23.070"]
[254,400,101600,36000,500,127000,45000,650,165100,48000,800,203200,72000,500,127000,45000,500,127000,45000,null,null,null,null,null,null,null,null,null,"2019-04-18T10:14:23.070"]
[255,400,102000,36000,500,127500,45000,650,165750,48000,800,204000,72000,500,127500,45000,500,127500,45000,null,null,null,null,null,null,null,null,null,"2019-04-19T10:14:23.070"]
[256,400,102400,36000,500,128000,45000,650,166400,48000,800,204800,72000,500,128000,45000,500,128000,45000,null,null,null,null,null,null,null,null,null,"2019-04-20T10:14:23.070"]
[257,400,102800,36000,500,{"$f":"E258*A258","v":128500},45000,650,167050,48000,800,205600,72000,500,{"$f":"N258*A258","v":128500},45000,500,{"$f":"Q258*A258","v":128500},45000,null,null,null,null,null,null,null,null,null,"2019-04-21T10:14:23.070"]
[258,400,{"$f":"B259*A259","v":103200},36000,500,129000,45000,650,167700,48000,800,206400,72000,500,129000,45000,500,129000,45000,null,null,null,null,null,null,null,null,null,{"$f":"AC258+1","v":"2019-04-22T10:14:23.070"}]
[259,{"$f":"B259","v":400},103600,{"$f":"D259","v":36000},500,129500,{"$f":"G259","v":45000},650,{"$f":"H260*A260","v":168350},{"$f":"J259","v":48000},800,{"$f":"K260*A260","v":207200},{"$f":"M259","v":72000},500,129500,{"$f":"P259","v":45000},500,129500,45000,null,null,null,null,null,null,null,null,null,"2019-04-23T10:14:23.070"]
[260,400,104000,36000,500,130000,45000,650,169000,48000,800,208000,72000,500,130000,45000,500,130000,45000,null,null,null,null,null,null,null,null,null,"2019-04-24T10:14:23.070"]
[261,400,104400,36000,500,130500,45000,650,169650,48000,800,208800,72000,500,130500,45000,500,130500,45000,null,null,null,null,null,null,null,null,null,"2019-04-25T10:14:23.070"]
[262,400,104800,36000,500,131000,45000,650,170300,48000,800,209600,72000,500,131000,45000,500,131000,45000,null,null,null,null,null,null,null,null,null,"2019-04-26T10:14:23.070"]
[263,400,105200,36000,500,131500,45000,650,170950,48000,800,210400,72000,500,131500,45000,500,131500,45000,null,null,null,null,null,null,null,null,null,"2019-04-27T10:14:23.070"]
[264,400,105600,36000,500,132000,45000,650,171600,48000,800,211200,72000,500,132000,45000,500,132000,45000,null,null,null,null,null,null,null,null,null,"2019-04-28T10:14:23.070"]
[265,400,106000,36000,500,132500,45000,650,172250,48000,800,212000,72000,500,132500,45000,500,132500,45000,null,null,null,null,null,null,null,null,null,"2019-04-29T10:14:23.070"]
[266,400,106400,36000,500,133000,45000,650,172900,48000,800,212800,72000,500,133000,45000,500,133000,45000,null,null,null,null,null,null,null,null,null,"2019-04-30T10:14:23.070"]
[267,400,106800,36000,500,133500,45000,650,173550,48000,800,213600,72000,500,133500,45000,500,133500,45000,null,null,null,null,null,null,null,null,null,"2019-05-01T10:14:23.070"]
[268,400,107200,36000,500,134000,45000,650,174200,48000,800,214400,72000,500,134000,45000,500,134000,45000,null,null,null,null,null,null,null,null,null,"2019-05-02T10:14:23.070"]
[269,400,107600,36000,500,134500,45000,650,174850,48000,800,215200,72000,500,134500,45000,500,134500,45000,null,null,null,null,null,null,null,null,null,"2019-05-03T10:14:23.070"]
[270,400,108000,36000,500,135000,45000,650,175500,48000,800,216000,72000,500,135000,45000,500,135000,45000,null,null,null,null,null,null,null,null,null,"2019-05-04T10:14:23.070"]
[271,400,108400,{"$f":"D271+D11","v":40000},500,135500,{"$f":"G271+5000","v":50000},650,176150,{"$f":"J271+5000","v":53000},800,216800,{"$f":"M271+M11","v":80000},500,135500,{"$f":"P271+P11","v":50000},500,135500,{"$f":"S271+S11","v":50000},null,null,null,null,null,null,null,null,null,"2019-05-05T10:14:23.070"]
[272,400,108800,{"$f":"D272","v":40000},500,136000,{"$f":"G272","v":50000},650,176800,{"$f":"J272","v":53000},800,217600,{"$f":"M272","v":80000},500,136000,{"$f":"P272","v":50000},500,136000,{"$f":"S272","v":50000},null,null,null,null,null,null,null,null,null,"2019-05-06T10:14:23.070"]
[273,400,109200,{"$f":"D273","v":40000},500,136500,{"$f":"G273","v":50000},650,177450,{"$f":"J273","v":53000},800,218400,{"$f":"M273","v":80000},500,136500,{"$f":"P273","v":50000},500,136500,{"$f":"S273","v":50000},null,null,null,null,null,null,null,null,null,"2019-05-07T10:14:23.070"]
[274,400,109600,40000,500,137000,50000,650,178100,53000,800,219200,80000,500,137000,50000,500,137000,50000,null,null,null,null,null,null,null,null,null,"2019-05-08T10:14:23.070"]
[275,400,110000,40000,500,137500,50000,650,178750,53000,800,220000,80000,500,137500,50000,500,137500,50000,null,null,null,null,null,null,null,null,null,"2019-05-09T10:14:23.070"]
[276,400,110400,40000,500,138000,50000,650,179400,53000,800,220800,80000,500,138000,50000,500,138000,50000,null,null,null,null,null,null,null,null,null,"2019-05-10T10:14:23.070"]
[277,400,110800,40000,500,138500,50000,650,180050,53000,800,221600,80000,500,138500,50000,500,138500,50000,null,null,null,null,null,null,null,null,null,"2019-05-11T10:14:23.070"]
[278,400,111200,40000,500,139000,50000,650,180700,53000,800,222400,80000,500,139000,50000,500,139000,50000,null,null,null,null,null,null,null,null,null,"2019-05-12T10:14:23.070"]
[279,400,111600,40000,500,139500,50000,650,181350,53000,800,223200,80000,500,139500,50000,500,139500,50000,null,null,null,null,null,null,null,null,null,"2019-05-13T10:14:23.070"]
[280,400,112000,40000,500,140000,50000,650,182000,53000,800,224000,80000,500,140000,50000,500,140000,50000,null,null,null,null,null,null,null,null,null,"2019-05-14T10:14:23.070"]
[281,400,112400,40000,500,140500,50000,650,182650,53000,800,224800,80000,500,140500,50000,500,140500,50000,null,null,null,null,null,null,null,null,null,"2019-05-15T10:14:23.070"]
[282,400,112800,40000,500,141000,50000,650,183300,53000,800,225600,80000,500,141000,50000,500,141000,50000,null,null,null,null,null,null,null,null,null,"2019-05-16T10:14:23.070"]
[283,400,113200,40000,500,141500,50000,650,183950,53000,800,226400,80000,500,141500,50000,500,141500,50000,null,null,null,null,null,null,null,null,null,"2019-05-17T10:14:23.070"]
[284,400,113600,40000,500,142000,50000,650,184600,53000,800,227200,80000,500,142000,50000,500,142000,50000,null,null,null,null,null,null,null,null,null,"2019-05-18T10:14:23.070"]
[285,400,114000,40000,500,142500,50000,650,185250,53000,800,228000,80000,500,142500,50000,500,142500,50000,null,null,null,null,null,null,null,null,null,"2019-05-19T10:14:23.070"]
[286,400,114400,40000,500,143000,50000,650,185900,53000,800,228800,80000,500,143000,50000,500,143000,50000,null,null,null,null,null,null,null,null,null,"2019-05-20T10:14:23.070"]
[287,400,114800,40000,500,143500,50000,650,186550,53000,800,229600,80000,500,143500,50000,500,143500,50000,null,null,null,null,null,null,null,null,null,"2019-05-21T10:14:23.070"]
[288,400,115200,40000,500,144000,50000,650,187200,53000,800,230400,80000,500,144000,50000,500,144000,50000,null,null,null,null,null,null,null,null,null,"2019-05-22T10:14:23.070"]
[289,400,115600,{"$f":"D289","v":40000},500,144500,{"$f":"G289","v":50000},650,187850,{"$f":"J289","v":53000},800,231200,{"$f":"M289","v":80000},500,144500,{"$f":"P289","v":50000},500,144500,50000,null,null,null,null,null,null,null,null,null,"2019-05-23T10:14:23.070"]
[290,400,116000,40000,500,145000,50000,650,188500,53000,800,232000,80000,500,145000,50000,500,145000,50000,null,null,null,null,null,null,null,null,null,"2019-05-24T10:14:23.070"]
[291,400,116400,40000,500,145500,50000,650,189150,53000,800,232800,80000,500,145500,50000,500,145500,50000,null,null,null,null,null,null,null,null,null,"2019-05-25T10:14:23.070"]
[292,400,116800,40000,500,146000,50000,650,189800,53000,800,233600,80000,500,146000,50000,500,146000,50000,null,null,null,null,null,null,null,null,null,"2019-05-26T10:14:23.070"]
[293,400,117200,40000,500,146500,50000,650,190450,53000,800,234400,80000,500,146500,50000,500,146500,50000,null,null,null,null,null,null,null,null,null,"2019-05-27T10:14:23.070"]
[294,400,117600,40000,500,147000,50000,650,191100,53000,800,235200,80000,500,147000,50000,500,147000,50000,null,null,null,null,null,null,null,null,null,"2019-05-28T10:14:23.070"]
[295,400,118000,40000,500,147500,50000,650,191750,53000,800,236000,80000,500,147500,50000,500,147500,50000,null,null,null,null,null,null,null,null,null,"2019-05-29T10:14:23.070"]
[296,400,118400,40000,500,148000,50000,650,192400,53000,800,236800,80000,500,148000,50000,500,148000,50000,null,null,null,null,null,null,null,null,null,"2019-05-30T10:14:23.070"]
[297,400,118800,40000,500,148500,50000,650,193050,53000,800,237600,80000,500,148500,50000,500,148500,50000,null,null,null,null,null,null,null,null,null,"2019-05-31T10:14:23.070"]
[298,400,119200,40000,500,149000,50000,650,193700,53000,800,238400,80000,500,149000,50000,500,149000,50000,null,null,null,null,null,null,null,null,null,"2019-06-01T10:14:23.070"]
[299,400,119600,40000,500,149500,50000,650,194350,53000,800,239200,80000,500,149500,50000,500,149500,50000,null,null,null,null,null,null,null,null,null,"2019-06-02T10:14:23.070"]
[300,400,120000,{"$f":"D300","v":40000},500,150000,{"$f":"G300","v":50000},650,195000,{"$f":"J300","v":53000},800,240000,{"$f":"M300","v":80000},500,150000,{"$f":"P300","v":50000},500,150000,{"$f":"S300","v":50000},null,null,null,null,null,null,null,null,null,"2019-06-03T10:14:23.070"]
[301,400,120400,{"$f":"D301+D11","v":44000},500,150500,{"$f":"G301+5000","v":55000},650,195650,{"$f":"J301+5000","v":58000},800,240800,{"$f":"M301+M11","v":88000},500,150500,{"$f":"P301+P11","v":55000},500,150500,{"$f":"S301+S11","v":55000},null,null,null,null,null,null,null,null,null,"2019-06-04T10:14:23.070"]
[302,400,120800,{"$f":"D302","v":44000},500,151000,{"$f":"G302","v":55000},650,196300,{"$f":"J302","v":58000},800,241600,{"$f":"M302","v":88000},500,151000,{"$f":"P302","v":55000},500,151000,{"$f":"S302","v":55000},null,null,null,null,null,null,null,null,null,"2019-06-05T10:14:23.070"]
[303,400,121200,{"$f":"D303","v":44000},500,151500,{"$f":"G303","v":55000},650,196950,{"$f":"J303","v":58000},800,242400,{"$f":"M303","v":88000},500,151500,{"$f":"P303","v":55000},500,151500,{"$f":"S303","v":55000},null,null,null,null,null,null,null,null,null,"2019-06-06T10:14:23.070"]
[304,400,121600,44000,500,152000,55000,650,197600,58000,800,243200,88000,500,152000,55000,500,152000,55000,null,null,null,null,null,null,null,null,null,"2019-06-07T10:14:23.070"]
[305,400,122000,44000,500,152500,55000,650,198250,58000,800,244000,88000,500,152500,55000,500,152500,55000,null,null,null,null,null,null,null,null,null,"2019-06-08T10:14:23.070"]
[306,400,122400,44000,500,153000,55000,650,198900,58000,800,244800,88000,500,153000,55000,500,153000,55000,null,null,null,null,null,null,null,null,null,"2019-06-09T10:14:23.070"]
[307,400,122800,44000,500,153500,55000,650,199550,58000,800,245600,88000,500,153500,55000,500,153500,55000,null,null,null,null,null,null,null,null,null,"2019-06-10T10:14:23.070"]
[308,400,123200,44000,500,154000,55000,650,200200,58000,800,246400,88000,500,154000,55000,500,154000,55000,null,null,null,null,null,null,null,null,null,"2019-06-11T10:14:23.070"]
[309,400,123600,44000,500,154500,55000,650,200850,58000,800,247200,88000,500,154500,55000,500,154500,55000,null,null,null,null,null,null,null,null,null,"2019-06-12T10:14:23.070"]
[310,400,124000,44000,500,155000,55000,650,201500,58000,800,248000,88000,500,155000,55000,500,155000,55000,null,null,null,null,null,null,null,null,null,"2019-06-13T10:14:23.070"]
[311,400,124400,44000,500,155500,55000,650,202150,58000,800,248800,88000,500,155500,55000,500,155500,55000,null,null,null,null,null,null,null,null,null,"2019-06-14T10:14:23.070"]
[312,400,124800,44000,500,156000,55000,650,202800,58000,800,249600,88000,500,156000,55000,500,156000,55000,null,null,null,null,null,null,null,null,null,"2019-06-15T10:14:23.070"]
[313,400,125200,44000,500,156500,55000,650,203450,58000,800,250400,88000,500,156500,55000,500,156500,55000,null,null,null,null,null,null,null,null,null,"2019-06-16T10:14:23.070"]
[314,400,125600,44000,500,157000,55000,650,204100,58000,800,251200,88000,500,157000,55000,500,157000,55000,null,null,null,null,null,null,null,null,null,"2019-06-17T10:14:23.070"]
[315,400,126000,44000,500,157500,55000,650,204750,58000,800,252000,88000,500,157500,55000,500,157500,55000,null,null,null,null,null,null,null,null,null,"2019-06-18T10:14:23.070"]
[316,400,126400,44000,500,158000,55000,650,205400,58000,800,252800,88000,500,158000,55000,500,158000,55000,null,null,null,null,null,null,null,null,null,"2019-06-19T10:14:23.070"]
[317,400,126800,44000,500,158500,55000,650,206050,58000,800,253600,88000,500,158500,55000,500,158500,55000,null,null,null,null,null,null,null,null,null,"2019-06-20T10:14:23.070"]
[318,400,127200,44000,500,159000,55000,650,206700,58000,800,254400,88000,500,159000,55000,500,159000,55000,null,null,null,null,null,null,null,null,null,"2019-06-21T10:14:23.070"]
[319,400,127600,{"$f":"D319","v":44000},500,159500,{"$f":"G319","v":55000},650,207350,{"$f":"J319","v":58000},800,255200,{"$f":"M319","v":88000},500,159500,{"$f":"P319","v":55000},500,159500,55000,null,null,null,null,null,null,null,null,null,"2019-06-22T10:14:23.070"]
[320,400,128000,44000,500,160000,55000,650,208000,58000,800,256000,88000,500,160000,55000,500,160000,55000,null,null,null,null,null,null,null,null,null,"2019-06-23T10:14:23.070"]
[321,400,128400,44000,500,{"$f":"E322*A322","v":160500},55000,650,208650,58000,800,256800,88000,500,{"$f":"N322*A322","v":160500},55000,500,{"$f":"Q322*A322","v":160500},55000,null,null,null,null,null,null,null,null,null,"2019-06-24T10:14:23.070"]
[322,400,{"$f":"B323*A323","v":128800},44000,500,161000,55000,650,209300,58000,800,257600,88000,500,161000,55000,500,161000,55000,null,null,null,null,null,null,null,null,null,{"$f":"AC322+1","v":"2019-06-25T10:14:23.070"}]
[323,{"$f":"B323","v":400},129200,44000,500,161500,55000,650,{"$f":"H324*A324","v":209950},58000,800,{"$f":"K324*A324","v":258400},88000,500,161500,55000,500,161500,55000,null,null,null,null,null,null,null,null,null,"2019-06-26T10:14:23.070"]
[324,400,129600,44000,500,162000,55000,650,210600,58000,800,259200,88000,500,162000,55000,500,162000,55000,null,null,null,null,null,null,null,null,null,"2019-06-27T10:14:23.070"]
[325,400,130000,44000,500,162500,55000,650,211250,58000,800,260000,88000,500,162500,55000,500,162500,55000,null,null,null,null,null,null,null,null,null,"2019-06-28T10:14:23.070"]
[326,400,130400,44000,500,163000,55000,650,211900,58000,800,260800,88000,500,163000,55000,500,163000,55000,null,null,null,null,null,null,null,null,null,"2019-06-29T10:14:23.070"]
[327,400,130800,44000,500,163500,55000,650,212550,58000,800,261600,88000,500,163500,55000,500,163500,55000,null,null,null,null,null,null,null,null,null,"2019-06-30T10:14:23.070"]
[328,400,131200,44000,500,164000,55000,650,213200,58000,800,262400,88000,500,164000,55000,500,164000,55000,null,null,null,null,null,null,null,null,null,"2019-07-01T10:14:23.070"]
[329,400,131600,44000,500,164500,55000,650,213850,58000,800,263200,88000,500,164500,55000,500,164500,55000,null,null,null,null,null,null,null,null,null,"2019-07-02T10:14:23.070"]
[330,400,132000,44000,500,165000,55000,650,214500,58000,800,264000,88000,500,165000,55000,500,165000,55000,null,null,null,null,null,null,null,null,null,"2019-07-03T10:14:23.070"]
[331,400,132400,{"$f":"D331+D11","v":48000},500,165500,{"$f":"G331+5000","v":60000},650,215150,{"$f":"J331+5000","v":63000},800,264800,{"$f":"M331+M11","v":96000},500,165500,{"$f":"P331+P11","v":60000},500,165500,{"$f":"S331+S11","v":60000},null,null,null,null,null,null,null,null,null,"2019-07-04T10:14:23.070"]
[332,400,132800,{"$f":"D332","v":48000},500,166000,{"$f":"G332","v":60000},650,215800,{"$f":"J332","v":63000},800,265600,{"$f":"M332","v":96000},500,166000,{"$f":"P332","v":60000},500,166000,{"$f":"S332","v":60000},null,null,null,null,null,null,null,null,null,"2019-07-05T10:14:23.070"]
[333,400,133200,{"$f":"D333","v":48000},500,166500,{"$f":"G333","v":60000},650,216450,{"$f":"J333","v":63000},800,266400,{"$f":"M333","v":96000},500,166500,{"$f":"P333","v":60000},500,166500,{"$f":"S333","v":60000},null,null,null,null,null,null,null,null,null,"2019-07-06T10:14:23.070"]
[334,400,133600,48000,500,167000,60000,650,217100,63000,800,267200,96000,500,167000,60000,500,167000,60000,null,null,null,null,null,null,null,null,null,"2019-07-07T10:14:23.070"]
[335,400,134000,48000,500,167500,60000,650,217750,63000,800,268000,96000,500,167500,60000,500,167500,60000,null,null,null,null,null,null,null,null,null,"2019-07-08T10:14:23.070"]
[336,400,134400,48000,500,168000,60000,650,218400,63000,800,268800,96000,500,168000,60000,500,168000,60000,null,null,null,null,null,null,null,null,null,"2019-07-09T10:14:23.070"]
[337,400,134800,48000,500,168500,60000,650,219050,63000,800,269600,96000,500,168500,60000,500,168500,60000,null,null,null,null,null,null,null,null,null,"2019-07-10T10:14:23.070"]
[338,400,135200,48000,500,169000,60000,650,219700,63000,800,270400,96000,500,169000,60000,500,169000,60000,null,null,null,null,null,null,null,null,null,"2019-07-11T10:14:23.070"]
[339,400,135600,48000,500,169500,60000,650,220350,63000,800,271200,96000,500,169500,60000,500,169500,60000,null,null,null,null,null,null,null,null,null,"2019-07-12T10:14:23.070"]
[340,400,136000,48000,500,170000,60000,650,221000,63000,800,272000,96000,500,170000,60000,500,170000,60000,null,null,null,null,null,null,null,null,null,"2019-07-13T10:14:23.070"]
[341,400,136400,48000,500,170500,60000,650,221650,63000,800,272800,96000,500,170500,60000,500,170500,60000,null,null,null,null,null,null,null,null,null,"2019-07-14T10:14:23.070"]
[342,400,136800,48000,500,171000,60000,650,222300,63000,800,273600,96000,500,171000,60000,500,171000,60000,null,null,null,null,null,null,null,null,null,"2019-07-15T10:14:23.070"]
[343,400,137200,48000,500,171500,60000,650,222950,63000,800,274400,96000,500,171500,60000,500,171500,60000,null,null,null,null,null,null,null,null,null,"2019-07-16T10:14:23.070"]
[344,400,137600,48000,500,172000,60000,650,223600,63000,800,275200,96000,500,172000,60000,500,172000,60000,null,null,null,null,null,null,null,null,null,"2019-07-17T10:14:23.070"]
[345,400,138000,48000,500,172500,60000,650,224250,63000,800,276000,96000,500,172500,60000,500,172500,60000,null,null,null,null,null,null,null,null,null,"2019-07-18T10:14:23.070"]
[346,400,138400,48000,500,173000,60000,650,224900,63000,800,276800,96000,500,173000,60000,500,173000,60000,null,null,null,null,null,null,null,null,null,"2019-07-19T10:14:23.070"]
[347,400,138800,48000,500,173500,60000,650,225550,63000,800,277600,96000,500,173500,60000,500,173500,60000,null,null,null,null,null,null,null,null,null,"2019-07-20T10:14:23.070"]
[348,400,139200,48000,500,174000,60000,650,226200,63000,800,278400,96000,500,174000,60000,500,174000,60000,null,null,null,null,null,null,null,null,null,"2019-07-21T10:14:23.070"]
[349,400,139600,{"$f":"D349","v":48000},500,174500,{"$f":"G349","v":60000},650,226850,{"$f":"J349","v":63000},800,279200,{"$f":"M349","v":96000},500,174500,{"$f":"P349","v":60000},500,174500,60000,null,null,null,null,null,null,null,null,null,"2019-07-22T10:14:23.070"]
[350,400,140000,48000,500,175000,60000,650,227500,63000,800,280000,96000,500,175000,60000,500,175000,60000,null,null,null,null,null,null,null,null,null,"2019-07-23T10:14:23.070"]
[351,400,140400,48000,500,175500,60000,650,228150,63000,800,280800,96000,500,175500,60000,500,175500,60000,null,null,null,null,null,null,null,null,null,"2019-07-24T10:14:23.070"]
[352,400,140800,48000,500,176000,60000,650,228800,63000,800,281600,96000,500,176000,60000,500,176000,60000,null,null,null,null,null,null,null,null,null,"2019-07-25T10:14:23.070"]
[353,400,141200,48000,500,176500,60000,650,229450,63000,800,282400,96000,500,176500,60000,500,176500,60000,null,null,null,null,null,null,null,null,null,"2019-07-26T10:14:23.070"]
[354,400,141600,48000,500,177000,60000,650,230100,63000,800,283200,96000,500,177000,60000,500,177000,60000,null,null,null,null,null,null,null,null,null,"2019-07-27T10:14:23.070"]
[355,400,142000,48000,500,177500,60000,650,230750,63000,800,284000,96000,500,177500,60000,500,177500,60000,null,null,null,null,null,null,null,null,null,"2019-07-28T10:14:23.070"]
[356,400,142400,48000,500,178000,60000,650,231400,63000,800,284800,96000,500,178000,60000,500,178000,60000,null,null,null,null,null,null,null,null,null,"2019-07-29T10:14:23.070"]
[357,400,142800,48000,500,178500,60000,650,232050,63000,800,285600,96000,500,178500,60000,500,178500,60000,null,null,null,null,null,null,null,null,null,"2019-07-30T10:14:23.070"]
[358,400,143200,48000,500,179000,60000,650,232700,63000,800,286400,96000,500,179000,60000,500,179000,60000,null,null,null,null,null,null,null,null,null,"2019-07-31T10:14:23.070"]
[359,400,143600,48000,500,179500,60000,650,233350,63000,800,287200,96000,500,179500,60000,500,179500,60000,null,null,null,null,null,null,null,null,null,"2019-08-01T10:14:23.070"]
[360,400,144000,48000,500,180000,60000,650,234000,63000,800,288000,96000,500,180000,60000,500,180000,60000,null,null,null,null,null,null,null,null,null,"2019-08-02T10:14:23.070"]
[null,null,null,null,null,null,null,null,null,null,null,null,null,null,null,null,null,null,null,null,null,null,null,null,null,null,null,null,{"$f":"AC361+1","v":"2019-08-03T10:14:23.070"}]
[null,null,null,null,null,null,null,null,null,null,null,null,null,null,null,null,null,null,null,null,null,null,null,null,null,null,null,null,{"$f":"AC362+1","v":"2019-08-04T10:14:23.070"}]
[null,null,null,null,null,null,null,null,null,null,null,null,null,null,null,null,null,null,null,null,null,null,null,null,null,null,null,null,{"$f":"AC363+1","v":"2019-08-05T10:14:23.070"}]
[null,null,null,null,null,null,null,null,null,null,null,null,null,null,null,null,null,null,null,null,null,null,null,null,null,null,null,null,{"$f":"AC364+1","v":"2019-08-06T10:14:23.070"}]